BEGIN:VCALENDAR
VERSION:2.0
PRODID:-//Etelän-SYLI ry - ECPv6.15.20//NONSGML v1.0//EN
CALSCALE:GREGORIAN
METHOD:PUBLISH
X-ORIGINAL-URL:https://etelansyli.fi
X-WR-CALDESC:Tapahtumat Etelän-SYLI ry
REFRESH-INTERVAL;VALUE=DURATION:PT1H
X-Robots-Tag:noindex
X-PUBLISHED-TTL:PT1H
BEGIN:VTIMEZONE
TZID:Europe/Helsinki
BEGIN:DAYLIGHT
TZOFFSETFROM:+0200
TZOFFSETTO:+0300
TZNAME:EEST
DTSTART:20220327T010000
END:DAYLIGHT
BEGIN:STANDARD
TZOFFSETFROM:+0300
TZOFFSETTO:+0200
TZNAME:EET
DTSTART:20221030T010000
END:STANDARD
BEGIN:DAYLIGHT
TZOFFSETFROM:+0200
TZOFFSETTO:+0300
TZNAME:EEST
DTSTART:20230326T010000
END:DAYLIGHT
BEGIN:STANDARD
TZOFFSETFROM:+0300
TZOFFSETTO:+0200
TZNAME:EET
DTSTART:20231029T010000
END:STANDARD
BEGIN:DAYLIGHT
TZOFFSETFROM:+0200
TZOFFSETTO:+0300
TZNAME:EEST
DTSTART:20240331T010000
END:DAYLIGHT
BEGIN:STANDARD
TZOFFSETFROM:+0300
TZOFFSETTO:+0200
TZNAME:EET
DTSTART:20241027T010000
END:STANDARD
BEGIN:DAYLIGHT
TZOFFSETFROM:+0200
TZOFFSETTO:+0300
TZNAME:EEST
DTSTART:20250330T010000
END:DAYLIGHT
BEGIN:STANDARD
TZOFFSETFROM:+0300
TZOFFSETTO:+0200
TZNAME:EET
DTSTART:20251026T010000
END:STANDARD
BEGIN:DAYLIGHT
TZOFFSETFROM:+0200
TZOFFSETTO:+0300
TZNAME:EEST
DTSTART:20260329T010000
END:DAYLIGHT
BEGIN:STANDARD
TZOFFSETFROM:+0300
TZOFFSETTO:+0200
TZNAME:EET
DTSTART:20261025T010000
END:STANDARD
END:VTIMEZONE
BEGIN:VEVENT
DTSTART;TZID=Europe/Helsinki:20250319T173000
DTEND;TZID=Europe/Helsinki:20250319T193000
DTSTAMP:20260419T155344
CREATED:20241209T090512Z
LAST-MODIFIED:20250320T115420Z
UID:10045412-1742405400-1742412600@etelansyli.fi
SUMMARY:Läheisten vertaistukiryhmä\, VANTAA
DESCRIPTION:Läheisten avoimessa vertaistukiryhmässä sinulla on mahdollisuus keskustella yhdistyksen vapaaehtoisten ja muiden läheisten kanssa oman läheisen sairauteen liittyvistä asioista ja omasta jaksamisesta. \nRyhmä on avoin ja maksuton. Voit osallistua asuinpaikastasi riippumatta. \nAika: Keskiviikkoisin 19.3.\, 9.4. ja 7.5. klo 17.30-19.30\nPaikka: Tikkurilan kirjasto\, Voimala-tila (2 krs.) \nALUSTUS SIIRTYY HUHTIKUULLE\nSyömishäiriökeskuksen sairaanhoitaja Lea Attila alustamassa aiheesta Omasta hyvinvoinnista ja jaksamisesta huolehtiminen. \nLämpimästi tervetuloa!
URL:https://etelansyli.fi/tapahtuma/laheisten-vertaistukiryhma-vantaa-6/
LOCATION:Tikkurilan kirjasto\, Lummetie 4\, Vantaa
CATEGORIES:Läheiselle,Vertaistukiryhmä
ORGANIZER;CN="Etel%C3%A4n-SYLI ry":MAILTO:info@etelansyli.fi
END:VEVENT
BEGIN:VEVENT
DTSTART;TZID=Europe/Helsinki:20250212T173000
DTEND;TZID=Europe/Helsinki:20250212T193000
DTSTAMP:20260419T155344
CREATED:20241209T090342Z
LAST-MODIFIED:20241209T090342Z
UID:10045383-1739381400-1739388600@etelansyli.fi
SUMMARY:Läheisten vertaistukiryhmä\, VANTAA
DESCRIPTION:Läheisten avoimessa vertaistukiryhmässä sinulla on mahdollisuus keskustella yhdistyksen vapaaehtoisten ja muiden läheisten kanssa oman läheisen sairauteen liittyvistä asioista ja omasta jaksamisesta. Ryhmät ovat avoimia ja maksuttomia. \nAika: Keskiviikkoisin 12.2.\, 19.3.\, 9.4. ja 7.5. klo 17:30-19:30.\nPaikka: Tikkurilan kirjasto\, Voimala-tila (2 krs.) \n19.3. kokoontumisella mukana Syömishäiriökeskuksen sairaanhoitaja Lea Attila\, alustamassa aiheesta: Omasta hyvinvoinnista ja jaksamisesta huolehtiminen. \nLämpimästi tervetuloa!
URL:https://etelansyli.fi/tapahtuma/laheisten-vertaistukiryhma-vantaa-5/
LOCATION:Tikkurilan kirjasto\, Lummetie 4\, Vantaa
CATEGORIES:Läheiselle,Vertaistukiryhmä
ORGANIZER;CN="Etel%C3%A4n-SYLI ry":MAILTO:info@etelansyli.fi
END:VEVENT
BEGIN:VEVENT
DTSTART;TZID=Europe/Helsinki:20240528T173000
DTEND;TZID=Europe/Helsinki:20240528T193000
DTSTAMP:20260419T155344
CREATED:20240513T125807Z
LAST-MODIFIED:20240513T125807Z
UID:10044849-1716917400-1716924600@etelansyli.fi
SUMMARY:PERUTTU Läheisten avoin vertaistukiryhmä\, Vantaa
DESCRIPTION:Ryhmä on tänään peruttu\, koska Vantaan kirjastot menevät kiinni klo 18 järjestelmäpäivityksen vuoksi.\n\n\nLäheisten avoimessa vertaistukiryhmässä sinulla on mahdollisuus keskustella yhdistyksen vapaaehtoisten ja muiden läheisten kanssa oman läheisen sairauteen liittyvistä asioista ja omasta jaksamisesta. \nRyhmään osallistuminen ei edellytä yhdistyksen jäsenyyttä\, vaan ryhmät ovat avoimia kaikille\, joita läheisen syömishäiriö koskettaa. Ryhmät ovat myös maksuttomia. \nRyhmä kokoontuu kerran kuussa tiistaisin Vantaalla Tikkurilan kirjastossa\, 1. kerroksen ”robohuoneessa”: 23.1.\, 27.2.\, 26.3.\, 23.4. ja 28.5. klo 17.30–19.30 \nTeemalliset kerrat ja asiantuntijat:\n27.2. Läheisen oma toipuminen\, läheistyöntekijä Terhi Kanerva\, Syömishäiriöliitto \nLämpimästi tervetuloa!
URL:https://etelansyli.fi/tapahtuma/laheisten-avoin-vertaistukiryhma-vantaa-4/
LOCATION:Tikkurilan kirjasto\, Lummetie 4\, Vantaa
CATEGORIES:Läheiselle,Vertaistukiryhmä
ORGANIZER;CN="Etel%C3%A4n-SYLI ry":MAILTO:info@etelansyli.fi
END:VEVENT
BEGIN:VEVENT
DTSTART;TZID=Europe/Helsinki:20240423T173000
DTEND;TZID=Europe/Helsinki:20240423T193000
DTSTAMP:20260419T155344
CREATED:20240422T123816Z
LAST-MODIFIED:20240422T123829Z
UID:10044848-1713893400-1713900600@etelansyli.fi
SUMMARY:PERUTTU: Läheisten avoin vertaistukiryhmä\, Vantaa
DESCRIPTION:Läheisten avoimessa vertaistukiryhmässä sinulla on mahdollisuus keskustella yhdistyksen vapaaehtoisten ja muiden läheisten kanssa oman läheisen sairauteen liittyvistä asioista ja omasta jaksamisesta. \nRyhmään osallistuminen ei edellytä yhdistyksen jäsenyyttä\, vaan ryhmät ovat avoimia kaikille\, joita läheisen syömishäiriö koskettaa. Ryhmät ovat myös maksuttomia. \nRyhmä kokoontuu kerran kuussa tiistaisin Vantaalla Tikkurilan kirjastossa\, 1. kerroksen ”robohuoneessa”: 23.1.\, 27.2.\, 26.3.\, 23.4. ja 28.5. klo 17.30–19.30 \nTeemalliset kerrat ja asiantuntijat:\n27.2. Läheisen oma toipuminen\, läheistyöntekijä Terhi Kanerva\, Syömishäiriöliitto \nLämpimästi tervetuloa!
URL:https://etelansyli.fi/tapahtuma/laheisten-avoin-vertaistukiryhma-vantaa-3/
LOCATION:Tikkurilan kirjasto\, Lummetie 4\, Vantaa
CATEGORIES:Läheiselle,Vertaistukiryhmä
ORGANIZER;CN="Etel%C3%A4n-SYLI ry":MAILTO:info@etelansyli.fi
END:VEVENT
BEGIN:VEVENT
DTSTART;TZID=Europe/Helsinki:20240326T173000
DTEND;TZID=Europe/Helsinki:20240326T193000
DTSTAMP:20260419T155344
CREATED:20231213T090716Z
LAST-MODIFIED:20240131T122552Z
UID:10044847-1711474200-1711481400@etelansyli.fi
SUMMARY:Läheisten avoin vertaistukiryhmä\, Vantaa
DESCRIPTION:Läheisten avoimessa vertaistukiryhmässä sinulla on mahdollisuus keskustella yhdistyksen vapaaehtoisten ja muiden läheisten kanssa oman läheisen sairauteen liittyvistä asioista ja omasta jaksamisesta. \nRyhmään osallistuminen ei edellytä yhdistyksen jäsenyyttä\, vaan ryhmät ovat avoimia kaikille\, joita läheisen syömishäiriö koskettaa. Ryhmät ovat myös maksuttomia. \nRyhmä kokoontuu kerran kuussa tiistaisin Vantaalla Tikkurilan kirjastossa\, 1. kerroksen ”robohuoneessa”: 23.1.\, 27.2.\, 26.3.\, 23.4. ja 28.5. klo 17.30–19.30 \nTeemalliset kerrat ja asiantuntijat:\n27.2. Läheisen oma toipuminen\, läheistyöntekijä Terhi Kanerva\, Syömishäiriöliitto \nLämpimästi tervetuloa!
URL:https://etelansyli.fi/tapahtuma/laheisten-avoin-vertaistukiryhma-vantaa/2024-03-26/
LOCATION:Tikkurilan kirjasto\, Lummetie 4\, Vantaa
CATEGORIES:Läheiselle,Vertaistukiryhmä
ORGANIZER;CN="Etel%C3%A4n-SYLI ry":MAILTO:info@etelansyli.fi
END:VEVENT
BEGIN:VEVENT
DTSTART;TZID=Europe/Helsinki:20240227T173000
DTEND;TZID=Europe/Helsinki:20240227T193000
DTSTAMP:20260419T155344
CREATED:20231213T090716Z
LAST-MODIFIED:20240131T122552Z
UID:10044846-1709055000-1709062200@etelansyli.fi
SUMMARY:Läheisten avoin vertaistukiryhmä\, Vantaa
DESCRIPTION:Läheisten avoimessa vertaistukiryhmässä sinulla on mahdollisuus keskustella yhdistyksen vapaaehtoisten ja muiden läheisten kanssa oman läheisen sairauteen liittyvistä asioista ja omasta jaksamisesta. \nRyhmään osallistuminen ei edellytä yhdistyksen jäsenyyttä\, vaan ryhmät ovat avoimia kaikille\, joita läheisen syömishäiriö koskettaa. Ryhmät ovat myös maksuttomia. \nRyhmä kokoontuu kerran kuussa tiistaisin Vantaalla Tikkurilan kirjastossa\, 1. kerroksen ”robohuoneessa”: 23.1.\, 27.2.\, 26.3.\, 23.4. ja 28.5. klo 17.30–19.30 \nTeemalliset kerrat ja asiantuntijat:\n27.2. Läheisen oma toipuminen\, läheistyöntekijä Terhi Kanerva\, Syömishäiriöliitto \nLämpimästi tervetuloa!
URL:https://etelansyli.fi/tapahtuma/laheisten-avoin-vertaistukiryhma-vantaa/2024-02-27/
LOCATION:Tikkurilan kirjasto\, Lummetie 4\, Vantaa
CATEGORIES:Läheiselle,Vertaistukiryhmä
ORGANIZER;CN="Etel%C3%A4n-SYLI ry":MAILTO:info@etelansyli.fi
END:VEVENT
BEGIN:VEVENT
DTSTART;TZID=Europe/Helsinki:20240123T173000
DTEND;TZID=Europe/Helsinki:20240123T193000
DTSTAMP:20260419T155344
CREATED:20240123T061815Z
LAST-MODIFIED:20240123T061833Z
UID:10044845-1706031000-1706038200@etelansyli.fi
SUMMARY:PERUTTU: Läheisten avoin vertaistukiryhmä\, Vantaa
DESCRIPTION:Läheisten avoimessa vertaistukiryhmässä sinulla on mahdollisuus keskustella yhdistyksen vapaaehtoisten ja muiden läheisten kanssa oman läheisen sairauteen liittyvistä asioista ja omasta jaksamisesta. \nRyhmään osallistuminen ei edellytä yhdistyksen jäsenyyttä\, vaan ryhmät ovat avoimia kaikille\, ketä läheisen syömishäiriö koskettaa. Ryhmät ovat myös maksuttomia. \nRyhmä kokoontuu kerran kuussa tiistaisin Vantaalla Tikkurilan kirjastossa\, 1. kerroksen ”robohuoneessa”: 23.1.\, 27.2.\, 26.3.\, 23.4. ja 28.5. klo 17.30–19.30 \nTeemalliset kerrat ja asiantuntijat: \n27.2. Läheisen oma toipuminen\, Läheistyöntekijä Terhi Kanerva\, Syömishäiriöliitto \nLämpimästi tervetuloa!
URL:https://etelansyli.fi/tapahtuma/laheisten-avoin-vertaistukiryhma-vantaa-2/
LOCATION:Tikkurilan kirjasto\, Lummetie 4\, Vantaa
CATEGORIES:Läheiselle,Vertaistukiryhmä
ORGANIZER;CN="Etel%C3%A4n-SYLI ry":MAILTO:info@etelansyli.fi
END:VEVENT
BEGIN:VEVENT
DTSTART;TZID=Europe/Helsinki:20231212T173000
DTEND;TZID=Europe/Helsinki:20231212T193000
DTSTAMP:20260419T155344
CREATED:20230621T123254Z
LAST-MODIFIED:20231123T080347Z
UID:10044804-1702402200-1702409400@etelansyli.fi
SUMMARY:Läheisten avoin vertaistukiryhmä\, Vantaa
DESCRIPTION:Läheisten avoimessa vertaistukiryhmässä sinulla on mahdollisuus keskustella yhdistyksen vapaaehtoisten ja muiden läheisten kanssa oman läheisen sairauteen liittyvistä asioista ja omasta jaksamisesta. \nRyhmään osallistuminen ei edellytä yhdistyksen jäsenyyttä\, vaan ryhmät ovat avoimia kaikille\, ketä läheisen syömishäiriö koskettaa. Ryhmät ovat myös maksuttomia. \nRyhmä kokoontuu kerran kuussa tiistaisin Vantaalla Tikkurilan kirjastossa\, ryhmätyötila Voimalassa: 12.9.\, 10.10.\, 7.11. ja 12.12. klo 17.30–19.30. \nTeemalliset kerrat ja asiantuntijat: \n7.11. Pari- ja perhepsykoterapeutti ja sairaanhoitaja Mira Ilomäki (Syömishäiriöyksikkö\, HUS): “Mitä perheessä tapahtuu kun lapsi sairastuu syömishäiriöön?” \n12.12. Sairaanhoitaja Lea Attila (Syömishäiriökeskus): ”Ahdistus ja sen hallintakeinot”
URL:https://etelansyli.fi/tapahtuma/laheisten-ryhma-vantaa-3/2023-12-12/
LOCATION:Tikkurilan kirjasto\, Lummetie 4\, Vantaa
CATEGORIES:Läheiselle,Vertaistukiryhmä
ORGANIZER;CN="Etel%C3%A4n-SYLI ry":MAILTO:info@etelansyli.fi
END:VEVENT
BEGIN:VEVENT
DTSTART;TZID=Europe/Helsinki:20231107T173000
DTEND;TZID=Europe/Helsinki:20231107T193000
DTSTAMP:20260419T155344
CREATED:20230621T123254Z
LAST-MODIFIED:20231123T080347Z
UID:10044803-1699378200-1699385400@etelansyli.fi
SUMMARY:Läheisten avoin vertaistukiryhmä\, Vantaa
DESCRIPTION:Läheisten avoimessa vertaistukiryhmässä sinulla on mahdollisuus keskustella yhdistyksen vapaaehtoisten ja muiden läheisten kanssa oman läheisen sairauteen liittyvistä asioista ja omasta jaksamisesta. \nRyhmään osallistuminen ei edellytä yhdistyksen jäsenyyttä\, vaan ryhmät ovat avoimia kaikille\, ketä läheisen syömishäiriö koskettaa. Ryhmät ovat myös maksuttomia. \nRyhmä kokoontuu kerran kuussa tiistaisin Vantaalla Tikkurilan kirjastossa\, ryhmätyötila Voimalassa: 12.9.\, 10.10.\, 7.11. ja 12.12. klo 17.30–19.30. \nTeemalliset kerrat ja asiantuntijat: \n7.11. Pari- ja perhepsykoterapeutti ja sairaanhoitaja Mira Ilomäki (Syömishäiriöyksikkö\, HUS): “Mitä perheessä tapahtuu kun lapsi sairastuu syömishäiriöön?” \n12.12. Sairaanhoitaja Lea Attila (Syömishäiriökeskus): ”Ahdistus ja sen hallintakeinot”
URL:https://etelansyli.fi/tapahtuma/laheisten-ryhma-vantaa-3/2023-11-07/
LOCATION:Tikkurilan kirjasto\, Lummetie 4\, Vantaa
CATEGORIES:Läheiselle,Vertaistukiryhmä
ORGANIZER;CN="Etel%C3%A4n-SYLI ry":MAILTO:info@etelansyli.fi
END:VEVENT
BEGIN:VEVENT
DTSTART;TZID=Europe/Helsinki:20231010T173000
DTEND;TZID=Europe/Helsinki:20231010T193000
DTSTAMP:20260419T155344
CREATED:20230621T123254Z
LAST-MODIFIED:20231123T080347Z
UID:10044802-1696959000-1696966200@etelansyli.fi
SUMMARY:Läheisten avoin vertaistukiryhmä\, Vantaa
DESCRIPTION:Läheisten avoimessa vertaistukiryhmässä sinulla on mahdollisuus keskustella yhdistyksen vapaaehtoisten ja muiden läheisten kanssa oman läheisen sairauteen liittyvistä asioista ja omasta jaksamisesta. \nRyhmään osallistuminen ei edellytä yhdistyksen jäsenyyttä\, vaan ryhmät ovat avoimia kaikille\, ketä läheisen syömishäiriö koskettaa. Ryhmät ovat myös maksuttomia. \nRyhmä kokoontuu kerran kuussa tiistaisin Vantaalla Tikkurilan kirjastossa\, ryhmätyötila Voimalassa: 12.9.\, 10.10.\, 7.11. ja 12.12. klo 17.30–19.30. \nTeemalliset kerrat ja asiantuntijat: \n7.11. Pari- ja perhepsykoterapeutti ja sairaanhoitaja Mira Ilomäki (Syömishäiriöyksikkö\, HUS): “Mitä perheessä tapahtuu kun lapsi sairastuu syömishäiriöön?” \n12.12. Sairaanhoitaja Lea Attila (Syömishäiriökeskus): ”Ahdistus ja sen hallintakeinot”
URL:https://etelansyli.fi/tapahtuma/laheisten-ryhma-vantaa-3/2023-10-10/
LOCATION:Tikkurilan kirjasto\, Lummetie 4\, Vantaa
CATEGORIES:Läheiselle,Vertaistukiryhmä
ORGANIZER;CN="Etel%C3%A4n-SYLI ry":MAILTO:info@etelansyli.fi
END:VEVENT
BEGIN:VEVENT
DTSTART;TZID=Europe/Helsinki:20230912T173000
DTEND;TZID=Europe/Helsinki:20230912T193000
DTSTAMP:20260419T155344
CREATED:20230621T123254Z
LAST-MODIFIED:20231123T080347Z
UID:10044522-1694539800-1694547000@etelansyli.fi
SUMMARY:Läheisten avoin vertaistukiryhmä\, Vantaa
DESCRIPTION:Läheisten avoimessa vertaistukiryhmässä sinulla on mahdollisuus keskustella yhdistyksen vapaaehtoisten ja muiden läheisten kanssa oman läheisen sairauteen liittyvistä asioista ja omasta jaksamisesta. \nRyhmään osallistuminen ei edellytä yhdistyksen jäsenyyttä\, vaan ryhmät ovat avoimia kaikille\, ketä läheisen syömishäiriö koskettaa. Ryhmät ovat myös maksuttomia. \nRyhmä kokoontuu kerran kuussa tiistaisin Vantaalla Tikkurilan kirjastossa\, ryhmätyötila Voimalassa: 12.9.\, 10.10.\, 7.11. ja 12.12. klo 17.30–19.30. \nTeemalliset kerrat ja asiantuntijat: \n7.11. Pari- ja perhepsykoterapeutti ja sairaanhoitaja Mira Ilomäki (Syömishäiriöyksikkö\, HUS): “Mitä perheessä tapahtuu kun lapsi sairastuu syömishäiriöön?” \n12.12. Sairaanhoitaja Lea Attila (Syömishäiriökeskus): ”Ahdistus ja sen hallintakeinot”
URL:https://etelansyli.fi/tapahtuma/laheisten-ryhma-vantaa-3/2023-09-12/
LOCATION:Tikkurilan kirjasto\, Lummetie 4\, Vantaa
CATEGORIES:Läheiselle,Vertaistukiryhmä
ORGANIZER;CN="Etel%C3%A4n-SYLI ry":MAILTO:info@etelansyli.fi
END:VEVENT
BEGIN:VEVENT
DTSTART;TZID=Europe/Helsinki:20230523T173000
DTEND;TZID=Europe/Helsinki:20230523T193000
DTSTAMP:20260419T155344
CREATED:20221214T094351Z
LAST-MODIFIED:20230119T083948Z
UID:10043770-1684863000-1684870200@etelansyli.fi
SUMMARY:Läheisten ryhmä\, Vantaa
DESCRIPTION:Läheisten avoimessa vertaistukiryhmässä sinulla on mahdollisuus keskustella yhdistyksen vapaaehtoisten ja muiden läheisten kanssa oman läheisen sairauteen liittyvistä asioista ja omasta jaksamisesta. \nRyhmään osallistuminen ei edellytä yhdistyksen jäsenyyttä\, vaan ryhmät ovat avoimia kaikille\, ketä läheisen syömishäiriö koskettaa. Ryhmiin ei tarvitse ilmoittautua etukäteen. \nRyhmä kokoontuu kerran kuussa tiistaisin Vantaalla Tikkurilan kirjaston ryhmätyötila Voimalassa tai Zoomissa: ti 24.1. (Zoom)\, 21.2.\, 21.3.(Zoom)\, 25.4.\, 23.5. klo 17.30-19.30 \nTeemalliset kerrat ja asiantuntijat: \n21.3. Lea Attila\, Syömishäiriökeskus\, Miten toimia\, jos alaikäinen sairastuu syömishäiriöön – entä jos itse aikuisena sairastuu? \nPs. Jos on kysyttävää voi olla Etelän-SYLIn työntekijään Evaan yhteydessä: eva.roos@etelansyli.fi
URL:https://etelansyli.fi/tapahtuma/laheisten-ryhma-vantaa-2/2023-05-23/
LOCATION:Tikkurilan kirjasto\, Lummetie 4\, Vantaa
CATEGORIES:Läheiselle,Vertaistukiryhmä
ORGANIZER;CN="Etel%C3%A4n-SYLI ry":MAILTO:info@etelansyli.fi
END:VEVENT
BEGIN:VEVENT
DTSTART;TZID=Europe/Helsinki:20230425T173000
DTEND;TZID=Europe/Helsinki:20230425T193000
DTSTAMP:20260419T155344
CREATED:20221214T094351Z
LAST-MODIFIED:20230119T083948Z
UID:10043769-1682443800-1682451000@etelansyli.fi
SUMMARY:Läheisten ryhmä\, Vantaa
DESCRIPTION:Läheisten avoimessa vertaistukiryhmässä sinulla on mahdollisuus keskustella yhdistyksen vapaaehtoisten ja muiden läheisten kanssa oman läheisen sairauteen liittyvistä asioista ja omasta jaksamisesta. \nRyhmään osallistuminen ei edellytä yhdistyksen jäsenyyttä\, vaan ryhmät ovat avoimia kaikille\, ketä läheisen syömishäiriö koskettaa. Ryhmiin ei tarvitse ilmoittautua etukäteen. \nRyhmä kokoontuu kerran kuussa tiistaisin Vantaalla Tikkurilan kirjaston ryhmätyötila Voimalassa tai Zoomissa: ti 24.1. (Zoom)\, 21.2.\, 21.3.(Zoom)\, 25.4.\, 23.5. klo 17.30-19.30 \nTeemalliset kerrat ja asiantuntijat: \n21.3. Lea Attila\, Syömishäiriökeskus\, Miten toimia\, jos alaikäinen sairastuu syömishäiriöön – entä jos itse aikuisena sairastuu? \nPs. Jos on kysyttävää voi olla Etelän-SYLIn työntekijään Evaan yhteydessä: eva.roos@etelansyli.fi
URL:https://etelansyli.fi/tapahtuma/laheisten-ryhma-vantaa-2/2023-04-25/
LOCATION:Tikkurilan kirjasto\, Lummetie 4\, Vantaa
CATEGORIES:Läheiselle,Vertaistukiryhmä
ORGANIZER;CN="Etel%C3%A4n-SYLI ry":MAILTO:info@etelansyli.fi
END:VEVENT
BEGIN:VEVENT
DTSTART;TZID=Europe/Helsinki:20230221T173000
DTEND;TZID=Europe/Helsinki:20230221T193000
DTSTAMP:20260419T155344
CREATED:20221214T094351Z
LAST-MODIFIED:20230119T083948Z
UID:10043768-1677000600-1677007800@etelansyli.fi
SUMMARY:Läheisten ryhmä\, Vantaa
DESCRIPTION:Läheisten avoimessa vertaistukiryhmässä sinulla on mahdollisuus keskustella yhdistyksen vapaaehtoisten ja muiden läheisten kanssa oman läheisen sairauteen liittyvistä asioista ja omasta jaksamisesta. \nRyhmään osallistuminen ei edellytä yhdistyksen jäsenyyttä\, vaan ryhmät ovat avoimia kaikille\, ketä läheisen syömishäiriö koskettaa. Ryhmiin ei tarvitse ilmoittautua etukäteen. \nRyhmä kokoontuu kerran kuussa tiistaisin Vantaalla Tikkurilan kirjaston ryhmätyötila Voimalassa tai Zoomissa: ti 24.1. (Zoom)\, 21.2.\, 21.3.(Zoom)\, 25.4.\, 23.5. klo 17.30-19.30 \nTeemalliset kerrat ja asiantuntijat: \n21.3. Lea Attila\, Syömishäiriökeskus\, Miten toimia\, jos alaikäinen sairastuu syömishäiriöön – entä jos itse aikuisena sairastuu? \nPs. Jos on kysyttävää voi olla Etelän-SYLIn työntekijään Evaan yhteydessä: eva.roos@etelansyli.fi
URL:https://etelansyli.fi/tapahtuma/laheisten-ryhma-vantaa-2/2023-02-21/
LOCATION:Tikkurilan kirjasto\, Lummetie 4\, Vantaa
CATEGORIES:Läheiselle,Vertaistukiryhmä
ORGANIZER;CN="Etel%C3%A4n-SYLI ry":MAILTO:info@etelansyli.fi
END:VEVENT
END:VCALENDAR