BEGIN:VCALENDAR
VERSION:2.0
PRODID:-//Etelän-SYLI ry - ECPv6.15.20//NONSGML v1.0//EN
CALSCALE:GREGORIAN
METHOD:PUBLISH
X-WR-CALNAME:Etelän-SYLI ry
X-ORIGINAL-URL:https://etelansyli.fi
X-WR-CALDESC:Tapahtumat Etelän-SYLI ry
REFRESH-INTERVAL;VALUE=DURATION:PT1H
X-Robots-Tag:noindex
X-PUBLISHED-TTL:PT1H
BEGIN:VTIMEZONE
TZID:Europe/Helsinki
BEGIN:DAYLIGHT
TZOFFSETFROM:+0200
TZOFFSETTO:+0300
TZNAME:EEST
DTSTART:20240331T010000
END:DAYLIGHT
BEGIN:STANDARD
TZOFFSETFROM:+0300
TZOFFSETTO:+0200
TZNAME:EET
DTSTART:20241027T010000
END:STANDARD
BEGIN:DAYLIGHT
TZOFFSETFROM:+0200
TZOFFSETTO:+0300
TZNAME:EEST
DTSTART:20250330T010000
END:DAYLIGHT
BEGIN:STANDARD
TZOFFSETFROM:+0300
TZOFFSETTO:+0200
TZNAME:EET
DTSTART:20251026T010000
END:STANDARD
BEGIN:DAYLIGHT
TZOFFSETFROM:+0200
TZOFFSETTO:+0300
TZNAME:EEST
DTSTART:20260329T010000
END:DAYLIGHT
BEGIN:STANDARD
TZOFFSETFROM:+0300
TZOFFSETTO:+0200
TZNAME:EET
DTSTART:20261025T010000
END:STANDARD
END:VTIMEZONE
BEGIN:VEVENT
DTSTART;TZID=Europe/Helsinki:20250410T173000
DTEND;TZID=Europe/Helsinki:20250410T190000
DTSTAMP:20260422T103740
CREATED:20250219T143119Z
LAST-MODIFIED:20250225T134123Z
UID:10045516-1744306200-1744311600@etelansyli.fi
SUMMARY:ADHD ja syömisen haasteet: vertaistuellinen keskusteluilta
DESCRIPTION:ADHD ja syömisen haasteet eli miten ADHD voi vaikuttaa syömiseen\, syömishäiriöön sairastumiseen ja siitä toipumiseen? \nTervetuloa Etelän-SYLIn ja Pääkaupunkiseudun ADHD-yhdistyksen yhteistyönä toteutettavaan vertaistuelliseen keskusteluiltaan\, joka järjestetään Etelän-SYLIn toimitiloissa Helsingin Kaapelitehtaalla to 10.4. klo 17.30–19. Illan alustajana toimii Heta Eskelinen (ks. Hetan esittely alla). Paikalla on myös Etelän-SYLIn työntekijä Pihla. \nKuulemme Hetan alustuksen siitä\, miten ADHD ja syömisen haasteet ja häiriöt liittyvät toisiinsa ja miten nämä voi huomioida esimerkiksi syömishäiriöstä toipumisessa. Sen jälkeen on aikaa vertaistuelliselle keskustelulle ja yhteispohdinnalle\, kommenteille ja kysymyksille. \nIlta on tarkoitettu kaikille yli 15-vuotiaille\, joita ADHD sekä syömisen haasteet omakohtaisesti koskettavat. Ilta on ilmainen eikä edellytä kummankaan yhdistyksen jäsenyyttä tai ilmoittautumista. Tarjolla on kahvia ja teetä. \nLisätietoa illasta voit kysyä: pihla.aaltonen(at)etelansyli.fi. \n  \nAlustaja Hetan esittely: \nOlen Heta Eskelinen\, neljääkymppiä lähestyvä\, kokonaisvaltaisen hyvinvoinnin parissa vuodesta 2009 työskennellyt moniosaaja. Urani alkoi liikunta-alalta ja jatkui psykiatriseen erikoissairaanhoitoon\, kunnes päädyin yrittäjäksi.  \nOlen viimeiset +3 vuotta työskennellyt pääasiassa neurovähemmistöön (ADHD/ADD\, autismin kirjo) kuuluvien ihmisten kanssa ruoka-\, keho- ja liikuntasuhteen solmujen avaamisessa auttaen.  \nTeen nepsyvalmennusta\, seksuaalineuvontaa sekä ratkaisukeskeistä koulutuslyhytterapiaa Uudellamaalla ja etänä. Lisäksi koulutan ja luennoin mm. neurovahvistavasta lähestymistavasta\, erilaisista neuromoninaisuuteen liittyvistä aiheista (esim. syömishäiriöt) sekä positiivisesta keho-\, ruoka ja liikuntasuhteesta.  \nHeta on koulutukseltaan psykofyysinen psykiatrinen fysioterapeutti (AMK)\, auktorisoitu seksuaalineuvoja (SSS)\, neuromoninaisten valmentaja ja opiskelee tällä hetkellä ratkaisukeskeistä lyhytterapiaa.
URL:https://etelansyli.fi/tapahtuma/adhd-syomisen-haasteet-vertaistuellinen-keskusteluilta/
LOCATION:Toimisto\, Kaapelitehdas\, B-rappu\, 4.krs\, Tallberginkatu 1\, Helsinki\, 00180\, Suomi
CATEGORIES:Sairastavalle,Toipuvalle,Vertaistuki
ATTACH;FMTTYPE=image/png:https://etelansyli.fi/a/wp-content/uploads/2025/02/Keskusteluilta-Lihavan-syomishairio-potilaan-ruokasuhde-1.png
ORGANIZER;CN="Etel%C3%A4n-SYLI ry":MAILTO:info@etelansyli.fi
END:VEVENT
END:VCALENDAR