BEGIN:VCALENDAR
VERSION:2.0
PRODID:-//Etelän-SYLI ry - ECPv6.15.20//NONSGML v1.0//EN
CALSCALE:GREGORIAN
METHOD:PUBLISH
X-WR-CALNAME:Etelän-SYLI ry
X-ORIGINAL-URL:https://etelansyli.fi
X-WR-CALDESC:Tapahtumat Etelän-SYLI ry
REFRESH-INTERVAL;VALUE=DURATION:PT1H
X-Robots-Tag:noindex
X-PUBLISHED-TTL:PT1H
BEGIN:VTIMEZONE
TZID:Europe/Helsinki
BEGIN:DAYLIGHT
TZOFFSETFROM:+0200
TZOFFSETTO:+0300
TZNAME:EEST
DTSTART:20240331T010000
END:DAYLIGHT
BEGIN:STANDARD
TZOFFSETFROM:+0300
TZOFFSETTO:+0200
TZNAME:EET
DTSTART:20241027T010000
END:STANDARD
BEGIN:DAYLIGHT
TZOFFSETFROM:+0200
TZOFFSETTO:+0300
TZNAME:EEST
DTSTART:20250330T010000
END:DAYLIGHT
BEGIN:STANDARD
TZOFFSETFROM:+0300
TZOFFSETTO:+0200
TZNAME:EET
DTSTART:20251026T010000
END:STANDARD
BEGIN:DAYLIGHT
TZOFFSETFROM:+0200
TZOFFSETTO:+0300
TZNAME:EEST
DTSTART:20260329T010000
END:DAYLIGHT
BEGIN:STANDARD
TZOFFSETFROM:+0300
TZOFFSETTO:+0200
TZNAME:EET
DTSTART:20261025T010000
END:STANDARD
END:VTIMEZONE
BEGIN:VEVENT
DTSTART;TZID=Europe/Helsinki:20251002T173000
DTEND;TZID=Europe/Helsinki:20251002T190000
DTSTAMP:20260420T180945
CREATED:20250815T092211Z
LAST-MODIFIED:20250922T125733Z
UID:10045746-1759426200-1759431600@etelansyli.fi
SUMMARY:ADHD ja ahmiminen: Vertaistuellinen keskusteluilta
DESCRIPTION:Kevään ADHD ja Syömisen haasteet -keskusteluilta saa yleisön pyynnöstä jatkoa. Tällä kertaa asiantuntijavieraana toimiva neuropsykiatrinen valmentaja Heta Eskelinen alustaa aiheesta ADHD ja ahmiminen. \nTiesitkö\, että ADHD-piirteet voivat altistaa ahmimiselle? Tässä vertaistuellisessa keskusteluillassa kuulet Heta Eskelisen alustuksen siitä\, miten ADHD\, ahmiminen/hallitsematon syöminen liittyvät toisiinsa\, sekä saat lisätietoa siitä\, miten ADHD-piirteet huomioimalla voidaan vähentää ahmimista ja vahvistaa syömisen säätelykykyä. \nIlta järjestetään yhdistyksemme toimitiloissa Kaapelitehtaalla. Heta alustaa aiheeseen n. puolen tunnin ajan\, jotta keskustelulle\, kysymyksille ja vertaistuellisille pohdinnoille on hyvin aikaa. \nKeskusteluilta on avoin ja maksuton\, eikä ilmoittautumista tarvitse. Tarjolla on kahvia ja teetä. Kuten muussakin toiminnassamme\, on tässäkin illassa käytössä turvallisemman ryhmätilan huoneentaulu. Toimitilamme löydät\, kun astut Kaapelitehtaan sisäpihalta B-rappuun\, nouset hissillä/portaita neljänteen kerrokseen ja lasiovista käytävälle. Toimistomme ovessa on iso Etelän-SYLIn logo ja ovet avataan n. 17.20. \nLisätietoja illasta voit kysyä: pihla.aaltonen(at)etelansyli.fi. \nAlustaja Hetan esittely: \nOlen Heta Eskelinen\, vajaa nelikymppinen\, kokonaisvaltaisen hyvinvoinnin parissa vuodesta 2009 työskennellyt moniosaaja. Urani alkoi liikunta-alalta\, mistä se jatkui psykiatriseen erikoissairaanhoitoon\, kunnes v. 2022 siirryin itsenäiseksi yrittäjäksi. \nAsiakaskuntani koostuu pääasiassa neurovähemmistöön (ADHD/ADD\, autismin kirjo) kuuluvista henkilöistä\, joiden kanssa työskentelemme ruoka-\, keho- ja liikuntasuhteen solmujen availlen ja itsetuntemusta omista neurokirjon piirteistä lisäten.  \nTeen nepsyvalmennusta\, seksuaalineuvontaa sekä ratkaisukeskeistä koulutuslyhytterapiaa Uudellamaalla ja etänä. Lisäksi koulutan ja luennoin mm. neurovahvistavasta lähestymistavasta\, erilaisista neuromoninaisuuteen liittyvistä aiheista (esim. syömishäiriöt) sekä positiivisesta keho-\, ruoka ja liikuntasuhteesta.  \nHeta on koulutukseltaan psykofyysinen psykiatrinen fysioterapeutti (AMK)\, auktorisoitu seksuaalineuvoja (SSS)\, neuromoninaisten valmentaja ja opiskelee tällä hetkellä ratkaisukeskeiseksi lyhytterapeutiksi.
URL:https://etelansyli.fi/tapahtuma/adhd-ja-ahmiminen-vertaistuellinen-keskusteluilta/
LOCATION:Toimisto\, Kaapelitehdas\, B-rappu\, 4.krs\, Tallberginkatu 1\, Helsinki\, 00180\, Suomi
CATEGORIES:Ammattilaiselle,Läheiselle,Luento,Sairastavalle,Toipuvalle,Vertaistuki
ORGANIZER;CN="Etel%C3%A4n-SYLI ry":MAILTO:info@etelansyli.fi
END:VEVENT
END:VCALENDAR