BEGIN:VCALENDAR
VERSION:2.0
PRODID:-//Etelän-SYLI ry - ECPv6.15.20//NONSGML v1.0//EN
CALSCALE:GREGORIAN
METHOD:PUBLISH
X-ORIGINAL-URL:https://etelansyli.fi
X-WR-CALDESC:Tapahtumat Etelän-SYLI ry
REFRESH-INTERVAL;VALUE=DURATION:PT1H
X-Robots-Tag:noindex
X-PUBLISHED-TTL:PT1H
BEGIN:VTIMEZONE
TZID:Europe/Helsinki
BEGIN:DAYLIGHT
TZOFFSETFROM:+0200
TZOFFSETTO:+0300
TZNAME:EEST
DTSTART:20240331T010000
END:DAYLIGHT
BEGIN:STANDARD
TZOFFSETFROM:+0300
TZOFFSETTO:+0200
TZNAME:EET
DTSTART:20241027T010000
END:STANDARD
BEGIN:DAYLIGHT
TZOFFSETFROM:+0200
TZOFFSETTO:+0300
TZNAME:EEST
DTSTART:20250330T010000
END:DAYLIGHT
BEGIN:STANDARD
TZOFFSETFROM:+0300
TZOFFSETTO:+0200
TZNAME:EET
DTSTART:20251026T010000
END:STANDARD
BEGIN:DAYLIGHT
TZOFFSETFROM:+0200
TZOFFSETTO:+0300
TZNAME:EEST
DTSTART:20260329T010000
END:DAYLIGHT
BEGIN:STANDARD
TZOFFSETFROM:+0300
TZOFFSETTO:+0200
TZNAME:EET
DTSTART:20261025T010000
END:STANDARD
END:VTIMEZONE
BEGIN:VEVENT
DTSTART;TZID=Europe/Helsinki:20251209T173000
DTEND;TZID=Europe/Helsinki:20251209T193000
DTSTAMP:20260419T215109
CREATED:20250617T032244Z
LAST-MODIFIED:20251209T063131Z
UID:10045651-1765301400-1765308600@etelansyli.fi
SUMMARY:RYHMÄ ON PERUTTU // Läheisten vertaistukiryhmä\, Vantaa
DESCRIPTION:VANTAAN SYKSYN VIIMEINEN RYHMÄ ON PERUTTU\, pahoittelemme tilannetta. Läheisten vertaistukitoiminta kokoontuu seuraavan kerran keväällä. \nPaikka: Tikkurilan kirjaston Voimala-tila\, 2. krs.\nAika: Tiistaisin klo 17:30-19:30: 9.9.\, 7.10. ja 9.12 JOULUKUUN RYHMÄ ON PERUTTU \n\n9.9. kokoontumisella mukana Syömishäiriökeskuksen sisätauti-kirurginen sairaanhoitaja Lea Attila\, alustamassa aiheesta: Miten ottaa syömishäiriö puheeksi ja puuttua oireiluun.\n\nLäheisten avoimissa ja maksuttomissa vertaistukiryhmissä sinulla on mahdollisuus keskustella ja saada vertaistukea yhdistyksen vapaaehtoisilta sekä muilta osallistujilta. Keskustelua käydään huoneentaulun puitteissa oman lähimmäisen sairastamiseen ja oman jaksamisen tukemiseen liittyen.
URL:https://etelansyli.fi/tapahtuma/laheisten-vertaistukiryhma-vantaa-9/2025-12-09/
LOCATION:Tikkurilan kirjasto\, Lummetie 4\, Vantaa
CATEGORIES:Läheiselle,Vertaistuki,Vertaistukiryhmä
ORGANIZER;CN="Etel%C3%A4n-SYLI ry":MAILTO:info@etelansyli.fi
END:VEVENT
END:VCALENDAR