BEGIN:VCALENDAR
VERSION:2.0
PRODID:-//Etelän-SYLI ry - ECPv6.15.20//NONSGML v1.0//EN
CALSCALE:GREGORIAN
METHOD:PUBLISH
X-ORIGINAL-URL:https://etelansyli.fi
X-WR-CALDESC:Tapahtumat Etelän-SYLI ry
REFRESH-INTERVAL;VALUE=DURATION:PT1H
X-Robots-Tag:noindex
X-PUBLISHED-TTL:PT1H
BEGIN:VTIMEZONE
TZID:Europe/Helsinki
BEGIN:DAYLIGHT
TZOFFSETFROM:+0200
TZOFFSETTO:+0300
TZNAME:EEST
DTSTART:20250330T010000
END:DAYLIGHT
BEGIN:STANDARD
TZOFFSETFROM:+0300
TZOFFSETTO:+0200
TZNAME:EET
DTSTART:20251026T010000
END:STANDARD
BEGIN:DAYLIGHT
TZOFFSETFROM:+0200
TZOFFSETTO:+0300
TZNAME:EEST
DTSTART:20260329T010000
END:DAYLIGHT
BEGIN:STANDARD
TZOFFSETFROM:+0300
TZOFFSETTO:+0200
TZNAME:EET
DTSTART:20261025T010000
END:STANDARD
BEGIN:DAYLIGHT
TZOFFSETFROM:+0200
TZOFFSETTO:+0300
TZNAME:EEST
DTSTART:20270328T010000
END:DAYLIGHT
BEGIN:STANDARD
TZOFFSETFROM:+0300
TZOFFSETTO:+0200
TZNAME:EET
DTSTART:20271031T010000
END:STANDARD
END:VTIMEZONE
BEGIN:VEVENT
DTSTART;TZID=Europe/Helsinki:20260303T180000
DTEND;TZID=Europe/Helsinki:20260303T193000
DTSTAMP:20260422T052452
CREATED:20251204T080251Z
LAST-MODIFIED:20251204T080440Z
UID:10045806-1772560800-1772566200@etelansyli.fi
SUMMARY:Ahmintatyyppisesti (BED) oireilevien vertaistukiryhmä
DESCRIPTION:Lämpimästi tervetuloa Ahmintatyyppisesti (BED) oireilevien vertaistukiryhmään! \n\n\nAika: Tiistaisin 20.1.\, 3.3. ja 12.5. klo 18–19:30.\nPaikka: Zoom\, osallistu mukaan klikkaamalla TÄTÄ LINKKIÄ! \n\n\nTämä avoin ja matalan kynnyksen vertaistukiryhmä on suunnattu ahmintatyyppisesti\, eli BED (Binge Eating Disorder) oireileville ja/tai muusta hallitsemattomasta syömisestä kärsiville henkilöille. \n\n\nKeskustelua käydään toipumismyönteisessä hengessä huoneentaulun pohjalta\, yhdessä vapaaehtoisohjaajien ja muiden ryhmäläisten kanssa. \n\n\nVertaistuellisen keskustelun mahdollistamiseksi pyydämme\, että tulet mukaan ajoissa ja pidät kameran auki. Ryhmään osallistutaan rauhallisesta paikasta\, ettei keskustelu kuulu tai näy ulkopuolisille. Ryhmään ei voi osallistua lenkiltä tai ulkoillessa. \n\n\nRyhmä on suunnattu sairastaville ja toipuville. \n\n\nTervetuloa!
URL:https://etelansyli.fi/tapahtuma/ahmintatyyppisesti-bed-oireilevien-vertaistukiryhma-2/2026-03-03/
LOCATION:Zoom
CATEGORIES:Sairastavalle,Toipuvalle,Vertaistuki,Vertaistukiryhmä
ORGANIZER;CN="Etel%C3%A4n-SYLI ry":MAILTO:info@etelansyli.fi
END:VEVENT
BEGIN:VEVENT
DTSTART;TZID=Europe/Helsinki:20260305T173000
DTEND;TZID=Europe/Helsinki:20260305T190000
DTSTAMP:20260422T052452
CREATED:20251204T095227Z
LAST-MODIFIED:20260327T074218Z
UID:10045810-1772731800-1772737200@etelansyli.fi
SUMMARY:Kysy asiantuntijalta -tunti\, Zoom
DESCRIPTION:Lämpimästi tervetuloa Kysy asiantuntijalta -tunnille! \n\n\nAika: Torstaisin 5.3. ja 16.4. klo 17.30–19\nPaikka: Osallistu ryhmään klikkaamalla tätä ZOOM-LINKKIÄ! \nAsiantuntijat ja teemat: \n\n\n\n5.3. Syömishäiriöliiton asiantuntija Katri Mikkilä: Terveyttä tukeva ruokavalio ja sen merkitys syömishäiriöistä toivuttaessa. Voit lähettää Katrille etukäteen kysymyksen tästä linkistä. Jätäthän kysymyksen viim. su 22.2.26.\n16.4. Psykofyysinen fysioterapeutti Katja Martikainen: Rakas keho – miten rakentaa lempeämpää suhdetta omaan kehoon. Voit lähettää Katjalle etukäteen kysymyksen tästä linkistä. Jätäthän kysymyksen viim. ma 6.4.26.\n\n  \n\n\n\nAvoin ja maksuton tunti on suunnattu kaikille omaa kehonkuvaa\, syömistään ja/tai liikkumistaan pohtiville.  \nRyhmässä keskustellaan turvallisessa ja toipumismyönteisessä hengessä huoneentaulun pohjalta. Ohjaajina toimivat yhdistyksen vapaaehtoiset ja syömishäiriötyön ammattilainen. \n\n\nTunnille voit osallistua nimimerkillä. Emme edellytä mikrofonin tai kameran käyttöä. \n\n\nTervetuloa!
URL:https://etelansyli.fi/tapahtuma/kysy-asiantuntijalta-zoom-tunti-5/2026-03-05/
LOCATION:Zoom
CATEGORIES:Sairastavalle,Toipuvalle,Vertaistuki,Vertaistukiryhmä
ORGANIZER;CN="Etel%C3%A4n-SYLI ry":MAILTO:info@etelansyli.fi
END:VEVENT
END:VCALENDAR