BEGIN:VCALENDAR
VERSION:2.0
PRODID:-//Etelän-SYLI ry - ECPv6.15.20//NONSGML v1.0//EN
CALSCALE:GREGORIAN
METHOD:PUBLISH
X-WR-CALNAME:Etelän-SYLI ry
X-ORIGINAL-URL:https://etelansyli.fi
X-WR-CALDESC:Tapahtumat Etelän-SYLI ry
REFRESH-INTERVAL;VALUE=DURATION:PT1H
X-Robots-Tag:noindex
X-PUBLISHED-TTL:PT1H
BEGIN:VTIMEZONE
TZID:Europe/Helsinki
BEGIN:DAYLIGHT
TZOFFSETFROM:+0200
TZOFFSETTO:+0300
TZNAME:EEST
DTSTART:20250330T010000
END:DAYLIGHT
BEGIN:STANDARD
TZOFFSETFROM:+0300
TZOFFSETTO:+0200
TZNAME:EET
DTSTART:20251026T010000
END:STANDARD
BEGIN:DAYLIGHT
TZOFFSETFROM:+0200
TZOFFSETTO:+0300
TZNAME:EEST
DTSTART:20260329T010000
END:DAYLIGHT
BEGIN:STANDARD
TZOFFSETFROM:+0300
TZOFFSETTO:+0200
TZNAME:EET
DTSTART:20261025T010000
END:STANDARD
BEGIN:DAYLIGHT
TZOFFSETFROM:+0200
TZOFFSETTO:+0300
TZNAME:EEST
DTSTART:20270328T010000
END:DAYLIGHT
BEGIN:STANDARD
TZOFFSETFROM:+0300
TZOFFSETTO:+0200
TZNAME:EET
DTSTART:20271031T010000
END:STANDARD
END:VTIMEZONE
BEGIN:VEVENT
DTSTART;TZID=Europe/Helsinki:20260329T170000
DTEND;TZID=Europe/Helsinki:20260329T183000
DTSTAMP:20260421T235744
CREATED:20260220T125820Z
LAST-MODIFIED:20260323T084308Z
UID:10045821-1774803600-1774809000@etelansyli.fi
SUMMARY:Syömishäiriöitä sairastavien ja toipuvien vertaistukiryhmä
DESCRIPTION:Lämpimästi tervetuloa syömishäiriöitä sairastavien ja toipuvien ryhmään! \nAika: Su 25.1\, 22.2.\, 29.3.\, 26.4. ja 31.5. klo 17–18:30.\nPaikka: Etelän-SYLI ry:n toimisto\, Kaapelitehdas (Tallberginkatu 1\, käynti B-rappu\, 4 krs.) \nTähän avoimeen ja matalan kynnyksen vertaistukiryhmään ovat tervetulleita kaikki\, joita oma syöminen\, liikunta tai kehonkuva tavalla tai toisella mietityttävät. \nRyhmää ohjaavat Etelän-SYLIn vapaaehtoiset\, joilla on oma kokemus syömishäiriöistä toipumisesta. Keskustelua käydään toipumismyönteisessä hengessä huoneentaulun pohjalta. \nRyhmädynamiikan turvaamiseksi ryhmä aloitetaan ajallaan\, jonka jälkeen ryhmään ei voi enää osallistua. Ryhmän ollessa jo käynnissä\, toivotamme sinut lämpimästi tervetulleeksi mukaan seuraavalla kerralla. \nRyhmä on suunnattu syömishäiriöitä sairastaville ja toipuville. \nTervetuloa!
URL:https://etelansyli.fi/tapahtuma/syomishairioita-sairastavien-ja-toipuvien-vertaistukiryhma-3/2026-03-29/
LOCATION:Toimisto\, Kaapelitehdas\, B-rappu\, 4.krs\, Tallberginkatu 1\, Helsinki\, 00180\, Suomi
CATEGORIES:Sairastavalle,Toipuvalle,Vertaistuki,Vertaistukiryhmä
ORGANIZER;CN="Etel%C3%A4n-SYLI ry":MAILTO:info@etelansyli.fi
END:VEVENT
END:VCALENDAR