BEGIN:VCALENDAR
VERSION:2.0
PRODID:-//Etelän-SYLI ry - ECPv6.15.20//NONSGML v1.0//EN
CALSCALE:GREGORIAN
METHOD:PUBLISH
X-WR-CALNAME:Etelän-SYLI ry
X-ORIGINAL-URL:https://etelansyli.fi
X-WR-CALDESC:Tapahtumat Etelän-SYLI ry
REFRESH-INTERVAL;VALUE=DURATION:PT1H
X-Robots-Tag:noindex
X-PUBLISHED-TTL:PT1H
BEGIN:VTIMEZONE
TZID:Europe/Helsinki
BEGIN:DAYLIGHT
TZOFFSETFROM:+0200
TZOFFSETTO:+0300
TZNAME:EEST
DTSTART:20250330T010000
END:DAYLIGHT
BEGIN:STANDARD
TZOFFSETFROM:+0300
TZOFFSETTO:+0200
TZNAME:EET
DTSTART:20251026T010000
END:STANDARD
BEGIN:DAYLIGHT
TZOFFSETFROM:+0200
TZOFFSETTO:+0300
TZNAME:EEST
DTSTART:20260329T010000
END:DAYLIGHT
BEGIN:STANDARD
TZOFFSETFROM:+0300
TZOFFSETTO:+0200
TZNAME:EET
DTSTART:20261025T010000
END:STANDARD
BEGIN:DAYLIGHT
TZOFFSETFROM:+0200
TZOFFSETTO:+0300
TZNAME:EEST
DTSTART:20270328T010000
END:DAYLIGHT
BEGIN:STANDARD
TZOFFSETFROM:+0300
TZOFFSETTO:+0200
TZNAME:EET
DTSTART:20271031T010000
END:STANDARD
END:VTIMEZONE
BEGIN:VEVENT
DTSTART;TZID=Europe/Helsinki:20260401T173000
DTEND;TZID=Europe/Helsinki:20260401T190000
DTSTAMP:20260421T222045
CREATED:20260326T072539Z
LAST-MODIFIED:20260326T131232Z
UID:10045809-1775064600-1775070000@etelansyli.fi
SUMMARY:SIIRRETTY 29.4.  // Toipumista ja takapakkeja -zoom-ryhmä
DESCRIPTION:Lämpimästi tervetuloa Toipumista ja takapakkeja -zoom-ryhmään!  \n1.4. kokoontuminen tullaan siirtämään 29.4. päivälle! Ilmoitamme uuden päivän mahdollisimman pian. \n\n\nAika: Keskiviikkona 4.2. ja 29.4. klo 17:30–19.\nPaikka: Osallistu ryhmään klikkaamalla tätä ZOOM-LINKKIÄ!\nAlustajat: \n\n4.2. alustajana laillistettu ravitsemusterapeutti\, TtM\, joogaopettaja\, äänimaljahoitaja Annukka Ruska ja aiheena: Toipumisrohkeuden löytäminen\, kun syömishäiriö pitkittyy.\n29.4. alustajana psykologi Monica Ålgars ja aiheena: Omien arvojen kirkastaminen toipumisen tukemiseksi.\n\n\n\nTämä matalan kynnyksen avoin zoom-ryhmä on tarkoitettu kaikille\, jotka kokevat syömishäiriön jääneen rinnalla kulkevaksi kumppaniksi ja toipumisen pitkittyneen. Ryhmässä keskustellaan turvallisessa ja toipumismyönteisessä hengessä huoneentaulun pohjalta siitä\, miten päästä eteenpäin syömishäiriön pitkittyessä. Ohjaajina toimivat yhdistyksen vapaaehtoiset ja syömishäiriötyön ammattilainen. \n\n\nVertaistuellisen keskustelun mahdollistamiseksi pyydämme\, että tulet mukaan ajoissa ja pidät kameran auki. Ryhmään osallistutaan rauhallisesta paikasta\, ettei keskustelu kuulu tai näy ulkopuolisille. Ryhmään ei voi osallistua lenkiltä tai ulkoillessa. \n\n\nTervetuloa!
URL:https://etelansyli.fi/tapahtuma/toipumista-ja-takapakkeja-zoom-ryhma-8-2/
LOCATION:Zoom
CATEGORIES:Sairastavalle,Toipuvalle,Vertaistuki,Vertaistukiryhmä
ORGANIZER;CN="Etel%C3%A4n-SYLI ry":MAILTO:info@etelansyli.fi
END:VEVENT
END:VCALENDAR