BEGIN:VCALENDAR
VERSION:2.0
PRODID:-//Etelän-SYLI ry - ECPv6.15.20//NONSGML v1.0//EN
CALSCALE:GREGORIAN
METHOD:PUBLISH
X-WR-CALNAME:Etelän-SYLI ry
X-ORIGINAL-URL:https://etelansyli.fi
X-WR-CALDESC:Tapahtumat Etelän-SYLI ry
REFRESH-INTERVAL;VALUE=DURATION:PT1H
X-Robots-Tag:noindex
X-PUBLISHED-TTL:PT1H
BEGIN:VTIMEZONE
TZID:Europe/Helsinki
BEGIN:DAYLIGHT
TZOFFSETFROM:+0200
TZOFFSETTO:+0300
TZNAME:EEST
DTSTART:20250330T010000
END:DAYLIGHT
BEGIN:STANDARD
TZOFFSETFROM:+0300
TZOFFSETTO:+0200
TZNAME:EET
DTSTART:20251026T010000
END:STANDARD
BEGIN:DAYLIGHT
TZOFFSETFROM:+0200
TZOFFSETTO:+0300
TZNAME:EEST
DTSTART:20260329T010000
END:DAYLIGHT
BEGIN:STANDARD
TZOFFSETFROM:+0300
TZOFFSETTO:+0200
TZNAME:EET
DTSTART:20261025T010000
END:STANDARD
BEGIN:DAYLIGHT
TZOFFSETFROM:+0200
TZOFFSETTO:+0300
TZNAME:EEST
DTSTART:20270328T010000
END:DAYLIGHT
BEGIN:STANDARD
TZOFFSETFROM:+0300
TZOFFSETTO:+0200
TZNAME:EET
DTSTART:20271031T010000
END:STANDARD
END:VTIMEZONE
BEGIN:VEVENT
DTSTART;TZID=Europe/Helsinki:20260412T170000
DTEND;TZID=Europe/Helsinki:20260412T183000
DTSTAMP:20260421T204241
CREATED:20251210T102920Z
LAST-MODIFIED:20251210T102920Z
UID:10045827-1776013200-1776018600@etelansyli.fi
SUMMARY:Syömishäiriöitä sairastavien ja toipuvien zoom-vertaistukiryhmä
DESCRIPTION:Lämpimästi tervetuloa syömishäiriöitä sairastavien ja toipuvien zoom-vertaistukiryhmään! \nAika: sunnuntaina 11.1.\, 8.2.\, 15.3.\, 12.4. ja 10.5. klo 17–18:30.\nPaikka: osallistu mukaan klikkaamalla TÄTÄ LINKKIÄ! \nTähän avoimeen ja matalan kynnyksen zoom-vertaistukiryhmään ovat tervetulleita kaikki\, joita oma syöminen\, liikunta tai kehonkuva tavalla tai toisella mietityttävät. \nRyhmää ohjaavat Etelän-SYLIn vapaaehtoiset\, joilla on oma kokemus syömishäiriöistä toipumisesta. Keskustelua käydään toipumismyönteisessä hengessä huoneentaulun pohjalta. \n\nVertaistuellisen keskustelun mahdollistamiseksi pyydämme\, että tulet mukaan ajoissa ja pidät kameran auki. Ryhmään osallistutaan rauhallisesta paikasta\, ettei keskustelu kuulu tai näy ulkopuolisille. Ryhmään ei voi osallistua lenkiltä tai ulkoillessa. \n\nRyhmä on suunnattu syömishäiriöitä sairastaville ja toipuville. \nTervetuloa!
URL:https://etelansyli.fi/tapahtuma/syomishairioita-sairastavien-ja-toipuvien-zoom-vertaistukiryhma/2026-04-12/
LOCATION:Zoom
CATEGORIES:Sairastavalle,Toipuvalle,Vertaistuki,Vertaistukiryhmä
ORGANIZER;CN="Etel%C3%A4n-SYLI ry":MAILTO:info@etelansyli.fi
END:VEVENT
END:VCALENDAR