BEGIN:VCALENDAR
VERSION:2.0
PRODID:-//Etelän-SYLI ry - ECPv6.15.20//NONSGML v1.0//EN
CALSCALE:GREGORIAN
METHOD:PUBLISH
X-ORIGINAL-URL:https://etelansyli.fi
X-WR-CALDESC:Tapahtumat Etelän-SYLI ry
REFRESH-INTERVAL;VALUE=DURATION:PT1H
X-Robots-Tag:noindex
X-PUBLISHED-TTL:PT1H
BEGIN:VTIMEZONE
TZID:Europe/Helsinki
BEGIN:DAYLIGHT
TZOFFSETFROM:+0200
TZOFFSETTO:+0300
TZNAME:EEST
DTSTART:20250330T010000
END:DAYLIGHT
BEGIN:STANDARD
TZOFFSETFROM:+0300
TZOFFSETTO:+0200
TZNAME:EET
DTSTART:20251026T010000
END:STANDARD
BEGIN:DAYLIGHT
TZOFFSETFROM:+0200
TZOFFSETTO:+0300
TZNAME:EEST
DTSTART:20260329T010000
END:DAYLIGHT
BEGIN:STANDARD
TZOFFSETFROM:+0300
TZOFFSETTO:+0200
TZNAME:EET
DTSTART:20261025T010000
END:STANDARD
BEGIN:DAYLIGHT
TZOFFSETFROM:+0200
TZOFFSETTO:+0300
TZNAME:EEST
DTSTART:20270328T010000
END:DAYLIGHT
BEGIN:STANDARD
TZOFFSETFROM:+0300
TZOFFSETTO:+0200
TZNAME:EET
DTSTART:20271031T010000
END:STANDARD
END:VTIMEZONE
BEGIN:VEVENT
DTSTART;TZID=Europe/Helsinki:20260504T180000
DTEND;TZID=Europe/Helsinki:20260504T193000
DTSTAMP:20260421T204723
CREATED:20251216T114207Z
LAST-MODIFIED:20251216T114207Z
UID:10045861-1777917600-1777923000@etelansyli.fi
SUMMARY:Ahmimistyyppisesti oireilevien zoom-vertaistukiryhmä
DESCRIPTION:Aika: maanantaisin 12.1.\, 9.2.\, 9.3.\, 13.4. ja 4.5. klo 18–19:30.\nPaikka: Osallistu ryhmään klikkaamalla tätä ZOOM-LINKKIÄ. \nTämä matalan kynnyksen zoom-ryhmä on suunnattu kaikille ahmimiskäyttäytymisestä (mm. bulimia\, tunnesyöminen\, BED\, epätyypillinen syömishäiriö ja/tai muu hallitsematon syöminen) kärsiville henkilöille. \nKeskustelua käydään toipumismyönteisessä hengessä huoneentaulun pohjalta. Ryhmää ohjaavat Etelän-SYLIn vapaaehtoiset\, joilla on oma kokemus sairastamisesta ja toipumisesta. \nVertaistuellisen keskustelun mahdollistamiseksi pyydämme\, että tulet mukaan ajoissa ja pidät kameran auki. Ryhmään osallistutaan rauhallisesta paikasta\, ettei keskustelu kuulu tai näy ulkopuolisille. Ryhmään ei voi osallistua lenkiltä tai ulkoillessa. \nLämpimästi tervetuloa!
URL:https://etelansyli.fi/tapahtuma/ahmimistyyppisesti-oireilevien-zoom-vertaistukiryhma-7/2026-05-04/
LOCATION:Zoom
CATEGORIES:Sairastavalle,Toipuvalle,Vertaistuki,Vertaistukiryhmä
ORGANIZER;CN="Etel%C3%A4n-SYLI ry":MAILTO:info@etelansyli.fi
END:VEVENT
BEGIN:VEVENT
DTSTART;TZID=Europe/Helsinki:20260509T110000
DTEND;TZID=Europe/Helsinki:20260509T140000
DTSTAMP:20260421T204723
CREATED:20251210T051746Z
LAST-MODIFIED:20260123T104858Z
UID:10045818-1778324400-1778335200@etelansyli.fi
SUMMARY:Läheisten brunssi
DESCRIPTION:Tervetuloa mukaan läheisille suunnattuun hengähdyshetkeen\, läheisten brunssille! \n\n\nMilloin: La 9.5. klo 11–14\nMissä: Etelän-SYLIn toimitilat\, Kaapelitehdas (Tallberginkatu 1\, käynti B-rappu\, 4. krs)\nIlmoittautumiset: 7.5. mennessä osoitteeseen suvi.ala-venna(at)etelansyli.fi. Mainita myös allergioista ja erityisruokavalioista. \n\n\nTämä maksuton ja matalan kynnyksen brunssi on tarkoitettu kaikille syömishäiriötä sairastavien ja toipuvien läheisille. \nBrunssin tavoitteena on tarjota mahdollisuus lempeään hengähdyshetkeen ja pohdintatuokioon:\nMitä minä tarvitsen? Miten voin huolehtia omasta hyvinvoinnistani? \n\n\nKeskustelua ohjaavat yhdistyksen läheisvapaaehtoiset yhdessä muiden osallistujien kanssa huoneentaulun pohjalta. \n\n\nLämpimästi tervetuloa!
URL:https://etelansyli.fi/tapahtuma/laheisten-brunssi-5/
LOCATION:Toimisto\, Kaapelitehdas\, B-rappu\, 4.krs\, Tallberginkatu 1\, Helsinki\, 00180\, Suomi
CATEGORIES:Läheiselle,Vertaistuki
ORGANIZER;CN="Etel%C3%A4n-SYLI ry":MAILTO:info@etelansyli.fi
END:VEVENT
BEGIN:VEVENT
DTSTART;TZID=Europe/Helsinki:20260510T170000
DTEND;TZID=Europe/Helsinki:20260510T183000
DTSTAMP:20260421T204723
CREATED:20251210T102920Z
LAST-MODIFIED:20251210T102920Z
UID:10045828-1778432400-1778437800@etelansyli.fi
SUMMARY:Syömishäiriöitä sairastavien ja toipuvien zoom-vertaistukiryhmä
DESCRIPTION:Lämpimästi tervetuloa syömishäiriöitä sairastavien ja toipuvien zoom-vertaistukiryhmään! \nAika: sunnuntaina 11.1.\, 8.2.\, 15.3.\, 12.4. ja 10.5. klo 17–18:30.\nPaikka: osallistu mukaan klikkaamalla TÄTÄ LINKKIÄ! \nTähän avoimeen ja matalan kynnyksen zoom-vertaistukiryhmään ovat tervetulleita kaikki\, joita oma syöminen\, liikunta tai kehonkuva tavalla tai toisella mietityttävät. \nRyhmää ohjaavat Etelän-SYLIn vapaaehtoiset\, joilla on oma kokemus syömishäiriöistä toipumisesta. Keskustelua käydään toipumismyönteisessä hengessä huoneentaulun pohjalta. \n\nVertaistuellisen keskustelun mahdollistamiseksi pyydämme\, että tulet mukaan ajoissa ja pidät kameran auki. Ryhmään osallistutaan rauhallisesta paikasta\, ettei keskustelu kuulu tai näy ulkopuolisille. Ryhmään ei voi osallistua lenkiltä tai ulkoillessa. \n\nRyhmä on suunnattu syömishäiriöitä sairastaville ja toipuville. \nTervetuloa!
URL:https://etelansyli.fi/tapahtuma/syomishairioita-sairastavien-ja-toipuvien-zoom-vertaistukiryhma/2026-05-10/
LOCATION:Zoom
CATEGORIES:Sairastavalle,Toipuvalle,Vertaistuki,Vertaistukiryhmä
ORGANIZER;CN="Etel%C3%A4n-SYLI ry":MAILTO:info@etelansyli.fi
END:VEVENT
END:VCALENDAR