BEGIN:VCALENDAR
VERSION:2.0
PRODID:-//Etelän-SYLI ry - ECPv6.15.20//NONSGML v1.0//EN
CALSCALE:GREGORIAN
METHOD:PUBLISH
X-ORIGINAL-URL:https://etelansyli.fi
X-WR-CALDESC:Tapahtumat Etelän-SYLI ry
REFRESH-INTERVAL;VALUE=DURATION:PT1H
X-Robots-Tag:noindex
X-PUBLISHED-TTL:PT1H
BEGIN:VTIMEZONE
TZID:Europe/Helsinki
BEGIN:DAYLIGHT
TZOFFSETFROM:+0200
TZOFFSETTO:+0300
TZNAME:EEST
DTSTART:20250330T010000
END:DAYLIGHT
BEGIN:STANDARD
TZOFFSETFROM:+0300
TZOFFSETTO:+0200
TZNAME:EET
DTSTART:20251026T010000
END:STANDARD
BEGIN:DAYLIGHT
TZOFFSETFROM:+0200
TZOFFSETTO:+0300
TZNAME:EEST
DTSTART:20260329T010000
END:DAYLIGHT
BEGIN:STANDARD
TZOFFSETFROM:+0300
TZOFFSETTO:+0200
TZNAME:EET
DTSTART:20261025T010000
END:STANDARD
BEGIN:DAYLIGHT
TZOFFSETFROM:+0200
TZOFFSETTO:+0300
TZNAME:EEST
DTSTART:20270328T010000
END:DAYLIGHT
BEGIN:STANDARD
TZOFFSETFROM:+0300
TZOFFSETTO:+0200
TZNAME:EET
DTSTART:20271031T010000
END:STANDARD
END:VTIMEZONE
BEGIN:VEVENT
DTSTART;TZID=Europe/Helsinki:20260520T173000
DTEND;TZID=Europe/Helsinki:20260520T193000
DTSTAMP:20260422T000101
CREATED:20251210T050511Z
LAST-MODIFIED:20251210T050511Z
UID:10045817-1779298200-1779305400@etelansyli.fi
SUMMARY:Läheisten vertaistukiryhmä
DESCRIPTION:Tervetuloa läheisten vertaistukiryhmään! \n\n\nMilloin: 21.1. ja 20.5. klo 17:30-19:30.\nMissä: Etelän-SYLIn toimitila Kaapelitehtaalla\, Tallberginkatu 1\, B-rappu ja 4 krs.\nIlmoittautumiset: Ei ilmoittautumisia \n\n\nLäheisten matalan kynnyksen vertaistukiryhmässä sinulla on mahdollisuus keskustella mieltä painavista ajatuksista ja saada vertaistukea yhdistyksen lähiesvapaaehtoisilta sekä muilta osallistujilta. \n\n\nKeskustelua käydään huoneentaulun puitteissa oman lähimmäisen sairastamiseen ja oman jaksamisen tukemiseen liittyen. \n\n\nVertaistukiryhmä on suunnattu syömishäiriöitä sairastavien läheisille. \nLämpimästi tervetuloa!
URL:https://etelansyli.fi/tapahtuma/laheisten-vertaistukiryhma/2026-05-20/
LOCATION:Toimisto\, Kaapelitehdas\, B-rappu\, 4.krs\, Tallberginkatu 1\, Helsinki\, 00180\, Suomi
CATEGORIES:Läheiselle,Vertaistuki,Vertaistukiryhmä
ORGANIZER;CN="Etel%C3%A4n-SYLI ry":MAILTO:info@etelansyli.fi
END:VEVENT
END:VCALENDAR