BEGIN:VCALENDAR
VERSION:2.0
PRODID:-//Etelän-SYLI ry - ECPv6.15.20//NONSGML v1.0//EN
CALSCALE:GREGORIAN
METHOD:PUBLISH
X-WR-CALNAME:Etelän-SYLI ry
X-ORIGINAL-URL:https://etelansyli.fi
X-WR-CALDESC:Tapahtumat Etelän-SYLI ry
REFRESH-INTERVAL;VALUE=DURATION:PT1H
X-Robots-Tag:noindex
X-PUBLISHED-TTL:PT1H
BEGIN:VTIMEZONE
TZID:Europe/Helsinki
BEGIN:DAYLIGHT
TZOFFSETFROM:+0200
TZOFFSETTO:+0300
TZNAME:EEST
DTSTART:20250330T010000
END:DAYLIGHT
BEGIN:STANDARD
TZOFFSETFROM:+0300
TZOFFSETTO:+0200
TZNAME:EET
DTSTART:20251026T010000
END:STANDARD
BEGIN:DAYLIGHT
TZOFFSETFROM:+0200
TZOFFSETTO:+0300
TZNAME:EEST
DTSTART:20260329T010000
END:DAYLIGHT
BEGIN:STANDARD
TZOFFSETFROM:+0300
TZOFFSETTO:+0200
TZNAME:EET
DTSTART:20261025T010000
END:STANDARD
BEGIN:DAYLIGHT
TZOFFSETFROM:+0200
TZOFFSETTO:+0300
TZNAME:EEST
DTSTART:20270328T010000
END:DAYLIGHT
BEGIN:STANDARD
TZOFFSETFROM:+0300
TZOFFSETTO:+0200
TZNAME:EET
DTSTART:20271031T010000
END:STANDARD
END:VTIMEZONE
BEGIN:VEVENT
DTSTART;TZID=Europe/Helsinki:20260421T180000
DTEND;TZID=Europe/Helsinki:20260421T193000
DTSTAMP:20260421T174611
CREATED:20260421T093457Z
LAST-MODIFIED:20260421T093457Z
UID:10045914-1776794400-1776799800@etelansyli.fi
SUMMARY:PERUTTU // 40+-ikäisten syömisellä oireilevien vertaistukiryhmä\, Zoom
DESCRIPTION:Illan ryhmä on valitettavasti peruttu\, pahoittelemme tilannetta! Ryhmä kokoontuu seuraavan kerran 28.5. \nAika: Keskiviikkona 25.2.\, torstaina 19.3.\, tiistaina 21.4. ja torstaina 28.5. klo 18–19.30.\nPaikka: Osallistu ryhmään klikkaamalla tätä ZOOM-LINKKIÄ. \nMatalan kynnyksen avoin ryhmä on suunnattu kaikille yli 40-vuotiaille syömisellä tavalla tai toisella oireileville aikuisille. \nKeskustelua käydään toipumismyönteisessä hengessä huoneentaulun pohjalta. \nRyhmää ohjaavat Etelän-SYLIn vapaaehtoiset\, joilla on oma kokemus sairastamisesta ja toipumisesta. \nVertaistuellisen keskustelun mahdollistamiseksi pyydämme\, että tulet mukaan ajoissa ja pidät kameran auki.  \nRyhmään osallistutaan rauhallisesta paikasta\, ettei keskustelu kuulu tai näy ulkopuolisille. Ryhmään ei voi osallistua lenkiltä tai ulkoillessa. \nLämpimästi tervetuloa!
URL:https://etelansyli.fi/tapahtuma/40-ikaisten-syomisella-oireilevien-zoom-vertaistukiryhma-2/
LOCATION:Zoom
CATEGORIES:Sairastavalle,Toipuvalle,Vertaistuki,Vertaistukiryhmä
ORGANIZER;CN="Etel%C3%A4n-SYLI ry":MAILTO:info@etelansyli.fi
END:VEVENT
END:VCALENDAR