BEGIN:VCALENDAR
VERSION:2.0
PRODID:-//Etelän-SYLI ry - ECPv6.15.20//NONSGML v1.0//EN
CALSCALE:GREGORIAN
METHOD:PUBLISH
X-WR-CALNAME:Etelän-SYLI ry
X-ORIGINAL-URL:https://etelansyli.fi
X-WR-CALDESC:Tapahtumat Etelän-SYLI ry
REFRESH-INTERVAL;VALUE=DURATION:PT1H
X-Robots-Tag:noindex
X-PUBLISHED-TTL:PT1H
BEGIN:VTIMEZONE
TZID:Europe/Helsinki
BEGIN:DAYLIGHT
TZOFFSETFROM:+0200
TZOFFSETTO:+0300
TZNAME:EEST
DTSTART:20240331T010000
END:DAYLIGHT
BEGIN:STANDARD
TZOFFSETFROM:+0300
TZOFFSETTO:+0200
TZNAME:EET
DTSTART:20241027T010000
END:STANDARD
BEGIN:DAYLIGHT
TZOFFSETFROM:+0200
TZOFFSETTO:+0300
TZNAME:EEST
DTSTART:20250330T010000
END:DAYLIGHT
BEGIN:STANDARD
TZOFFSETFROM:+0300
TZOFFSETTO:+0200
TZNAME:EET
DTSTART:20251026T010000
END:STANDARD
BEGIN:DAYLIGHT
TZOFFSETFROM:+0200
TZOFFSETTO:+0300
TZNAME:EEST
DTSTART:20260329T010000
END:DAYLIGHT
BEGIN:STANDARD
TZOFFSETFROM:+0300
TZOFFSETTO:+0200
TZNAME:EET
DTSTART:20261025T010000
END:STANDARD
END:VTIMEZONE
BEGIN:VEVENT
DTSTART;TZID=Europe/Helsinki:20251017T100000
DTEND;TZID=Europe/Helsinki:20251017T200000
DTSTAMP:20260423T004732
CREATED:20250919T105649Z
LAST-MODIFIED:20251002T075448Z
UID:10045753-1760695200-1760731200@etelansyli.fi
SUMMARY:i love me -messut
DESCRIPTION:Etelän-SYLI on kolmatta kertaa mukana i love me -messuilla\, jotka järjestetään Helsingin Messukeskuksessa. Viemme tapahtumaan kehoystävällistä viestiä. \nTule ottamaan kuva jättisydämessä\, jolla on kehoa kunnioittava viesti! Tuunaa tyylisi yksityiskohdilla ja asusteilla! \nVoit samalla jutella yhdistyksen työntekijöiden ja vapaaehtoisten kanssa syömisen\, kehonkuvan ja liikkumisen haasteista. \nJaossa on avainnauhoja ja syömishäiriöistä\, läheisen roolista ja painopuheesta kertovia esitteitä. \ni love me -messut on Pohjois-Euroopan suurin ja energisin hyvän olon tapahtuma. Se kokoaa saman katon alle kauneuden\, muodin\, hyvinvoinnin ja terveyden kiinnostavimmat brändit ja tuoreimmat trendit. \nEtusivu \n \n 
URL:https://etelansyli.fi/tapahtuma/i-love-me-messut/2025-10-17/
LOCATION:Messukeskus\, Messuaukio 1\, Helsinki\, 00520
CATEGORIES:Ammattilaiselle,Läheiselle,Opiskelijoille,Sairastavalle,Toipuvalle,Vapaaehtoiselle
ATTACH;FMTTYPE=image/png:https://etelansyli.fi/a/wp-content/uploads/2025/09/i_love_me2025_logo_pvm.png
END:VEVENT
BEGIN:VEVENT
DTSTART;TZID=Europe/Helsinki:20251018T100000
DTEND;TZID=Europe/Helsinki:20251018T180000
DTSTAMP:20260423T004732
CREATED:20250919T105649Z
LAST-MODIFIED:20251002T075448Z
UID:10045754-1760781600-1760810400@etelansyli.fi
SUMMARY:i love me -messut
DESCRIPTION:Etelän-SYLI on kolmatta kertaa mukana i love me -messuilla\, jotka järjestetään Helsingin Messukeskuksessa. Viemme tapahtumaan kehoystävällistä viestiä. \nTule ottamaan kuva jättisydämessä\, jolla on kehoa kunnioittava viesti! Tuunaa tyylisi yksityiskohdilla ja asusteilla! \nVoit samalla jutella yhdistyksen työntekijöiden ja vapaaehtoisten kanssa syömisen\, kehonkuvan ja liikkumisen haasteista. \nJaossa on avainnauhoja ja syömishäiriöistä\, läheisen roolista ja painopuheesta kertovia esitteitä. \ni love me -messut on Pohjois-Euroopan suurin ja energisin hyvän olon tapahtuma. Se kokoaa saman katon alle kauneuden\, muodin\, hyvinvoinnin ja terveyden kiinnostavimmat brändit ja tuoreimmat trendit. \nEtusivu \n \n 
URL:https://etelansyli.fi/tapahtuma/i-love-me-messut/2025-10-18/
LOCATION:Messukeskus\, Messuaukio 1\, Helsinki\, 00520
CATEGORIES:Ammattilaiselle,Läheiselle,Opiskelijoille,Sairastavalle,Toipuvalle,Vapaaehtoiselle
ATTACH;FMTTYPE=image/png:https://etelansyli.fi/a/wp-content/uploads/2025/09/i_love_me2025_logo_pvm.png
END:VEVENT
BEGIN:VEVENT
DTSTART;TZID=Europe/Helsinki:20251019T100000
DTEND;TZID=Europe/Helsinki:20251019T180000
DTSTAMP:20260423T004732
CREATED:20250919T105649Z
LAST-MODIFIED:20251002T075448Z
UID:10045755-1760868000-1760896800@etelansyli.fi
SUMMARY:i love me -messut
DESCRIPTION:Etelän-SYLI on kolmatta kertaa mukana i love me -messuilla\, jotka järjestetään Helsingin Messukeskuksessa. Viemme tapahtumaan kehoystävällistä viestiä. \nTule ottamaan kuva jättisydämessä\, jolla on kehoa kunnioittava viesti! Tuunaa tyylisi yksityiskohdilla ja asusteilla! \nVoit samalla jutella yhdistyksen työntekijöiden ja vapaaehtoisten kanssa syömisen\, kehonkuvan ja liikkumisen haasteista. \nJaossa on avainnauhoja ja syömishäiriöistä\, läheisen roolista ja painopuheesta kertovia esitteitä. \ni love me -messut on Pohjois-Euroopan suurin ja energisin hyvän olon tapahtuma. Se kokoaa saman katon alle kauneuden\, muodin\, hyvinvoinnin ja terveyden kiinnostavimmat brändit ja tuoreimmat trendit. \nEtusivu \n \n 
URL:https://etelansyli.fi/tapahtuma/i-love-me-messut/2025-10-19/
LOCATION:Messukeskus\, Messuaukio 1\, Helsinki\, 00520
CATEGORIES:Ammattilaiselle,Läheiselle,Opiskelijoille,Sairastavalle,Toipuvalle,Vapaaehtoiselle
ATTACH;FMTTYPE=image/png:https://etelansyli.fi/a/wp-content/uploads/2025/09/i_love_me2025_logo_pvm.png
END:VEVENT
END:VCALENDAR