BEGIN:VCALENDAR
VERSION:2.0
PRODID:-//Etelän-SYLI ry - ECPv6.15.20//NONSGML v1.0//EN
CALSCALE:GREGORIAN
METHOD:PUBLISH
X-WR-CALNAME:Etelän-SYLI ry
X-ORIGINAL-URL:https://etelansyli.fi
X-WR-CALDESC:Tapahtumat Etelän-SYLI ry
REFRESH-INTERVAL;VALUE=DURATION:PT1H
X-Robots-Tag:noindex
X-PUBLISHED-TTL:PT1H
BEGIN:VTIMEZONE
TZID:Europe/Helsinki
BEGIN:DAYLIGHT
TZOFFSETFROM:+0200
TZOFFSETTO:+0300
TZNAME:EEST
DTSTART:20250330T010000
END:DAYLIGHT
BEGIN:STANDARD
TZOFFSETFROM:+0300
TZOFFSETTO:+0200
TZNAME:EET
DTSTART:20251026T010000
END:STANDARD
BEGIN:DAYLIGHT
TZOFFSETFROM:+0200
TZOFFSETTO:+0300
TZNAME:EEST
DTSTART:20260329T010000
END:DAYLIGHT
BEGIN:STANDARD
TZOFFSETFROM:+0300
TZOFFSETTO:+0200
TZNAME:EET
DTSTART:20261025T010000
END:STANDARD
BEGIN:DAYLIGHT
TZOFFSETFROM:+0200
TZOFFSETTO:+0300
TZNAME:EEST
DTSTART:20270328T010000
END:DAYLIGHT
BEGIN:STANDARD
TZOFFSETFROM:+0300
TZOFFSETTO:+0200
TZNAME:EET
DTSTART:20271031T010000
END:STANDARD
END:VTIMEZONE
BEGIN:VEVENT
DTSTART;TZID=Europe/Helsinki:20260423T140000
DTEND;TZID=Europe/Helsinki:20260423T150000
DTSTAMP:20260421T193430
CREATED:20260217T114248Z
LAST-MODIFIED:20260217T114248Z
UID:10045919-1776952800-1776956400@etelansyli.fi
SUMMARY:Teemallinen Zoom-kahvihetki
DESCRIPTION:Tervetuloa teemallisille Zoom-kahveille keväällä 2026! \nVuonna 2025 alkaneet teemalliset zoom-kahvittelut jatkuvat kuukausittain to klo 14-15 keväällä 2026. Kevään teemat ovat: \n23.4 Yksinäisyys Mistä se tulee\, miltä se tuntuu? Miten se liittyy syömishäiriöihin? \n28.5 Psykologinen turvallisuus Miten usein koemme vapautta olla oma itsemme\, olla haavoittuvaisia ja erehtyväisiä? Tulla hyväksytyksi? Pohditaan yhdessä\, miten kokea turvaa muiden ja oman itsen kanssa. \n25.6 Mitä on toipuminen? Toipumisen määritelmiä on monia ja toipumiseen liittyy paljon oletuksia ja myyttejäkin. Jotkut suorittavat toipumista\, mutta voiko sitä suorittaa? \nYhdistyksen toiminnanohjaaja Pihla alustaa aiheeseen ja sen jälkeen voimme jakaa ajatuksia ja oivalluksia päivän teemasta. \nVertaistukiryhmistä poiketen voit tulla joko koko ajaksi tai piipahtamaan oman aikataulusi mukaan. Myös teemalliseen kahvihetkeen voit poiketa hetkeksi. \nZoom-kahvihetkissä on käytössä ryhmätilan huoneentaulu\, jonka tarkoitus on taata kaikille turvallinen ja toipumista tukeva keskusteluilmapiiri. Emme kysele diagnooseja\, vaan ihan jokaisella on omassa tilanteessaan oikeus ja mahdollisuus tulla mukaan ja saada tukea. \nMuistathan etäyhteyden päässä kiinnittää erityistä huomiota siihen\, että ulkopuoliset eivät pääse kuulemaan tai näkemään keskusteluja. Ryhmään osallistutaan kamera päällä. Rauhoituthan hetkeen ja teet olosi mukavaksi. \nOsallistu Zoom-kahvihetkeen tästä! 
URL:https://etelansyli.fi/tapahtuma/teemallinen-zoom-kahvihetki-4/2026-04-23/
LOCATION:Zoom
CATEGORIES:Läheiselle,Sairastavalle,Toipuvalle,Työntekijävetoinen tukitoiminta,Zoom-kahvihetki
ORGANIZER;CN="Etel%C3%A4n-SYLI ry":MAILTO:info@etelansyli.fi
END:VEVENT
END:VCALENDAR