BEGIN:VCALENDAR
VERSION:2.0
PRODID:-//Etelän-SYLI ry - ECPv6.15.20//NONSGML v1.0//EN
CALSCALE:GREGORIAN
METHOD:PUBLISH
X-WR-CALNAME:Etelän-SYLI ry
X-ORIGINAL-URL:https://etelansyli.fi
X-WR-CALDESC:Tapahtumat Etelän-SYLI ry
REFRESH-INTERVAL;VALUE=DURATION:PT1H
X-Robots-Tag:noindex
X-PUBLISHED-TTL:PT1H
BEGIN:VTIMEZONE
TZID:Europe/Helsinki
BEGIN:DAYLIGHT
TZOFFSETFROM:+0200
TZOFFSETTO:+0300
TZNAME:EEST
DTSTART:20240331T010000
END:DAYLIGHT
BEGIN:STANDARD
TZOFFSETFROM:+0300
TZOFFSETTO:+0200
TZNAME:EET
DTSTART:20241027T010000
END:STANDARD
BEGIN:DAYLIGHT
TZOFFSETFROM:+0200
TZOFFSETTO:+0300
TZNAME:EEST
DTSTART:20250330T010000
END:DAYLIGHT
BEGIN:STANDARD
TZOFFSETFROM:+0300
TZOFFSETTO:+0200
TZNAME:EET
DTSTART:20251026T010000
END:STANDARD
BEGIN:DAYLIGHT
TZOFFSETFROM:+0200
TZOFFSETTO:+0300
TZNAME:EEST
DTSTART:20260329T010000
END:DAYLIGHT
BEGIN:STANDARD
TZOFFSETFROM:+0300
TZOFFSETTO:+0200
TZNAME:EET
DTSTART:20261025T010000
END:STANDARD
END:VTIMEZONE
BEGIN:VEVENT
DTSTART;TZID=Europe/Helsinki:20251027T123000
DTEND;TZID=Europe/Helsinki:20251027T140000
DTSTAMP:20260423T143744
CREATED:20250930T123010Z
LAST-MODIFIED:20250930T123501Z
UID:10045697-1761568200-1761573600@etelansyli.fi
SUMMARY:Halloween-teemainen kahvihetki
DESCRIPTION:Tervetuloa Halloween-koristeltuun toimitilaamme\, jossa tarjoilemme teemaan sopivia kahvihetkiherkkuja! Ohjaavatko kahvihetkeä yhdistyksen työntekijät vai zombie-ihmissudet? Sen näkee vain saapumalla paikalle!\nKahvihetkissä jutellaan\, mitä kulloinkin mielessä päällimmäisenä on. Olet lämpimästi tervetullut mukaan jakamaan elämän iloja ja kipuja muiden kanssa. Voit tulla yksin tai ottaa ystäväsi tai läheisesi mukaan. Kahvihetkiin ovat kaikki tervetulleita!\n\n\nVertaistukiryhmistä poiketen voit tulla joko koko ajaksi ma klo 12.30-14 tai piipahtamaan oman aikataulusi mukaan. Kahvihetkessä on tarjolla pientä välipalaa. Kahvihetkiä ohjaavat yhdistyksen työntekijät.\n\n\n\n\nKahvihetkissä on käytössä ryhmätilan huoneentaulu\, jonka tarkoitus on taata kaikille turvallinen ja toipumista tukeva keskusteluilmapiiri. Emme kysele osallistujien diagnooseja\, vaan jokaisella on omassa tilanteessaan oikeus ja mahdollisuus tulla mukaan ja saada tukea.
URL:https://etelansyli.fi/tapahtuma/kahvihetki-30-2/
LOCATION:Toimisto\, Kaapelitehdas\, B-rappu\, 4.krs\, Tallberginkatu 1\, Helsinki\, 00180\, Suomi
CATEGORIES:Kahvihetki,Läheiselle,Sairastavalle,Toipuvalle,Työntekijävetoinen tukitoiminta
ORGANIZER;CN="Etel%C3%A4n-SYLI ry":MAILTO:info@etelansyli.fi
END:VEVENT
BEGIN:VEVENT
DTSTART;TZID=Europe/Helsinki:20251028T180000
DTEND;TZID=Europe/Helsinki:20251028T190000
DTSTAMP:20260423T143744
CREATED:20250625T074109Z
LAST-MODIFIED:20251028T100056Z
UID:10045704-1761674400-1761678000@etelansyli.fi
SUMMARY:Tutustu toimintaan-Zoom
DESCRIPTION:Kiinnostaako Etelän-SYLIn toiminta? Oletko ehkä pohtinut tulevasi mukaan yhdistyksen toimintaan\, mutta haluaisit ensin kuulla siitä vähän lisää? Tämä Zoom-hetki on sinulle! \nTutustu toimintaan-zoomissa Etelän-SYLIn toiminnanohjaaja Pihla kertoo vertaisryhmä- ja yksilötuesta\, kursseista\, työpajoista ja muusta yhdistyksen toiminnasta. Esittelyssä on myös toimintaamme ohjaava Ryhmätilan huoneentaulu. Aikaa on hyvin myös kysymyksille ja kommenteille. \nTähän Zoomiin voit osallistua nimimerkillä ja kamera kiinni\, ja kysymyksiä voi esittää niin chatin kuin mikrofoninkin avulla. \nTavoitteena tällä Zoomilla on madaltaa kynnystä tulla mukaan yhdistyksen toimintaan\, sillä tiedämme\, että aina ei ole niin helppoa uskaltautua mukaan. \nTutustu toimintaan-Zoom järjestetään ma 8.9 klo 18-19 sekä ti 28.10 klo 18-19. Mukaan voit liittyä täältä eikä ennakkoilmoittautumista tarvita.
URL:https://etelansyli.fi/tapahtuma/tutustu-toimintaan-zoom/2025-10-28/
LOCATION:Zoom
CATEGORIES:Ammattilaiselle,Läheiselle,Opiskelijoille,Sairastavalle,Toipuvalle,Työntekijävetoinen tukitoiminta,Zoom
ORGANIZER;CN="Etel%C3%A4n-SYLI ry":MAILTO:info@etelansyli.fi
END:VEVENT
BEGIN:VEVENT
DTSTART;TZID=Europe/Helsinki:20251029T150000
DTEND;TZID=Europe/Helsinki:20251029T163000
DTSTAMP:20260423T143744
CREATED:20250815T091004Z
LAST-MODIFIED:20250815T091439Z
UID:10045744-1761750000-1761755400@etelansyli.fi
SUMMARY:Keskiviikon kahvihetki
DESCRIPTION:Syksyllä 2025 järjestämme kolmesti myöhäisiltapäivän kahvihetken\, tervetuloa mukaan! \nJos olet halunnut vierailla kahvihetkessä\, mutta alkuiltapäivän aika ei sovi sinulle\, tule mukaan näille keskiviikkokahveille 17.9\, 29.10 & 19.11 klo 15-16.30 Kaapelitehtaan toimitiloissa. \nKahvihetkissä jutellaan\, mitä kulloinkin mielessä päällimmäisenä on. Olet lämpimästi tervetullut mukaan jakamaan elämän iloja ja kipuja muiden kanssa. Voit tulla yksin tai ottaa ystäväsi tai läheisesi mukaan. Kahvihetkiin ovat kaikki tervetulleita!\n\nVertaistukiryhmästä poiketen voit tulla mukaan koko ajaksi tai piipahtamaan oman aikataulusi mukaisesti. Kahvihetkessä on tarjolla pientä välipalaa.\n\n\n\nKahvihetkiä ohjaavat yhdistyksen työntekijät. Kahvihetkissä on käytössä ryhmätilan huoneentaulu\, jonka tarkoitus on taata kaikille turvallinen ja toipumista tukeva keskusteluilmapiiri. Emme kysele osallistujien diagnooseja\, vaan jokaisella on omassa tilanteessaan oikeus ja mahdollisuus tulla mukaan ja saada tukea.
URL:https://etelansyli.fi/tapahtuma/keskiviikon-kahvihetki/2025-10-29/
LOCATION:Toimisto\, Kaapelitehdas\, B-rappu\, 4.krs\, Tallberginkatu 1\, Helsinki\, 00180\, Suomi
CATEGORIES:Kahvihetki,Läheiselle,Sairastavalle,Toipuvalle,Työntekijävetoinen tukitoiminta,Vertaistuki
ATTACH;FMTTYPE=image/webp:https://etelansyli.fi/a/wp-content/uploads/2025/01/coffee-3903875_640.webp
ORGANIZER;CN="Etel%C3%A4n-SYLI ry":MAILTO:info@etelansyli.fi
END:VEVENT
BEGIN:VEVENT
DTSTART;TZID=Europe/Helsinki:20251030T140000
DTEND;TZID=Europe/Helsinki:20251030T150000
DTSTAMP:20260423T143744
CREATED:20250623T074520Z
LAST-MODIFIED:20251015T081559Z
UID:10045679-1761832800-1761836400@etelansyli.fi
SUMMARY:Zoom-kahvihetki
DESCRIPTION:Tervetuloa Zoom-kahveille torstaina klo 14–15! \nEi haittaa\, vaikka välimatka olisi lyhyt tai pitkä. Voimme kohdata silti\, tulla kuulluksi ja jakaa elämäämme. \nZoom-kahvihetkessä jutellaan siitä\, mitä kulloinkin mielessä päällimmäisenä on. Olet lämpimästi tervetullut mukaan jakamaan elämän iloja ja kipuja muiden kanssa. \nVertaistukiryhmistä poiketen voit tulla joko koko ajaksi tai piipahtamaan oman aikataulusi mukaan. Zoom-kahvihetkeä ohjaavat yhdistyksen työntekijät. \nMyös Zoom-kahvihetkissä on käytössä ryhmätilan huoneentaulu\, jonka tarkoitus on taata kaikille turvallinen ja toipumista tukeva keskusteluilmapiiri. Emme kysele diagnooseja\, vaan ihan jokaisella on omassa tilanteessaan oikeus ja mahdollisuus tulla mukaan ja saada tukea. \nMuistathan etäyhteyden päässä kiinnittää erityistä huomiota siihen\, että ulkopuoliset eivät pääse kuulemaan tai näkemään keskusteluja. Ryhmään osallistutaan kamera päällä. Rauhoituthan hetkeen ja teet olosi mukavaksi. \nOsallistu Zoom-kahvihetkeen tästä!  \nNähdään Zoomissa! \nPs. Järjestämme syksyllä 2025 myös teemallisia Zoom-kahvihetkiä ja Zoom-teehetkiä. \n 
URL:https://etelansyli.fi/tapahtuma/zoom-kahvihetki-13/2025-10-30/
LOCATION:Zoom
CATEGORIES:Läheiselle,Sairastavalle,Toipuvalle,Työntekijävetoinen tukitoiminta,Zoom-kahvihetki
ATTACH;FMTTYPE=image/jpeg:https://etelansyli.fi/a/wp-content/uploads/2025/01/coffee-3903875_640.jpg
ORGANIZER;CN="Etel%C3%A4n-SYLI ry":MAILTO:info@etelansyli.fi
END:VEVENT
BEGIN:VEVENT
DTSTART;TZID=Europe/Helsinki:20251031T173000
DTEND;TZID=Europe/Helsinki:20251031T190000
DTSTAMP:20260423T143744
CREATED:20250523T081508Z
LAST-MODIFIED:20251029T090830Z
UID:10045614-1761931800-1761937200@etelansyli.fi
SUMMARY:Äänimaljarentoutus läheisille
DESCRIPTION:Tervetuloa taas hengähtämään äänimaljarentoutuksen parissa Kaapelitehtaan toimitiloissa!  \nRentoudumme ensin äänimaljojen hyvää tekevässä syleilyssä\, ja sen jälkeen tarjolla on teetä\, pientä purtavaa ja tilaa keskustella. Oman maton voi tuoda. Yhdistyksen matot ovat myös käytössä.  \nTämä äänimaljarentoutus on tarkoitettu syömishäiriöitä sairastavien/toipuvien läheisille.  \nOhjaajan eli Annukan terveiset:  \nOlen ravitsemusterapeutti\, joogaopettaja\, ayurveda- ja äänimaljahoitaja.\nTyössäni syömishäiriötä sairastavien parissa huomasin nopeasti\, miten rentoutumisen ja tekemisestä irtipäästämisen taito on hukassa. Sekä sairastunut että läheiset ovat usein tilassa\, jossa mieli ja keho ovat jatkuvasti ylivirittyneitä eikä lepohermoston aktivaatio enää meinaa onnistua. Tämä huomio sai minut opiskelemaan menetelmiä\, joilla lepohermostoa voidaan auttaa aktivoitumaan taas vähitellen.  \nÄänimaljarentoutuksessa maljojen\, gongin ja koshien äänten värähtelyt vievät sinut lempeästi tilaan\, jossa sekä kehon että mielen on mahdollisuus ottaa pieni tauko tekemisestä. Äänimaljarentoutuksessa saat pysähtyä olemaan ja jättää kaiken tekemisen ja täytymisen hetkeksi.  \nAnnukka (Syömishäiriökeskus)  \nHengähdyshetki on maksuton ja mukaan mahtuu 10 hlöä. Ilmoittautumiset 30.10 mennessä tällä lomakkeella. 
URL:https://etelansyli.fi/tapahtuma/aanimaljarentoutus-laheisille-2/
LOCATION:Toimisto\, Kaapelitehdas\, B-rappu\, 4.krs\, Tallberginkatu 1\, Helsinki\, 00180\, Suomi
CATEGORIES:Äänimaljarentoutus,Läheiselle
ORGANIZER;CN="Etel%C3%A4n-SYLI ry":MAILTO:info@etelansyli.fi
END:VEVENT
END:VCALENDAR