BEGIN:VCALENDAR
VERSION:2.0
PRODID:-//Etelän-SYLI ry - ECPv6.15.20//NONSGML v1.0//EN
CALSCALE:GREGORIAN
METHOD:PUBLISH
X-ORIGINAL-URL:https://etelansyli.fi
X-WR-CALDESC:Tapahtumat Etelän-SYLI ry
REFRESH-INTERVAL;VALUE=DURATION:PT1H
X-Robots-Tag:noindex
X-PUBLISHED-TTL:PT1H
BEGIN:VTIMEZONE
TZID:Europe/Helsinki
BEGIN:DAYLIGHT
TZOFFSETFROM:+0200
TZOFFSETTO:+0300
TZNAME:EEST
DTSTART:20240331T010000
END:DAYLIGHT
BEGIN:STANDARD
TZOFFSETFROM:+0300
TZOFFSETTO:+0200
TZNAME:EET
DTSTART:20241027T010000
END:STANDARD
BEGIN:DAYLIGHT
TZOFFSETFROM:+0200
TZOFFSETTO:+0300
TZNAME:EEST
DTSTART:20250330T010000
END:DAYLIGHT
BEGIN:STANDARD
TZOFFSETFROM:+0300
TZOFFSETTO:+0200
TZNAME:EET
DTSTART:20251026T010000
END:STANDARD
BEGIN:DAYLIGHT
TZOFFSETFROM:+0200
TZOFFSETTO:+0300
TZNAME:EEST
DTSTART:20260329T010000
END:DAYLIGHT
BEGIN:STANDARD
TZOFFSETFROM:+0300
TZOFFSETTO:+0200
TZNAME:EET
DTSTART:20261025T010000
END:STANDARD
END:VTIMEZONE
BEGIN:VEVENT
DTSTART;TZID=Europe/Helsinki:20251112T180000
DTEND;TZID=Europe/Helsinki:20251112T193000
DTSTAMP:20260422T000134
CREATED:20250828T102809Z
LAST-MODIFIED:20250917T072136Z
UID:10045606-1762970400-1762975800@etelansyli.fi
SUMMARY:Syömishäiriötä sairastavien ja toipuvien ryhmä\, Järvenpää
DESCRIPTION:Aika: Keskiviikkoisin 10.9.\, 8.10. ja 12.11. klo 18-19:30.\nPaikka: Järvenpään kirjasto (Kirjastokatu 8)\, Oranssi kokoushuone. \nAvoimeen ja maksuttomaan vertaistukiryhmään ovat tervetulleita kaikki\, joita oma syöminen\, liikunta tai kehonkuva tavalla tai toisella mietityttävät. Keskustelua käydään toipumismyönteisessä hengessä huoneentaulun pohjalta. Ryhmää ohjaavat Etelän-SYLIn vapaaehtoiset\, joilla on oma kokemus sairastamisesta ja toipumisesta. \nRyhmän turvallisuuden ja dynamiikan turvaamiseksi ryhmä aloitetaan ajallaan\, joten pyydämme tulemaan ajoissa paikalle. Tämä ryhmä on suunnattu sairastaville ja toipuville\, läheisille on omat ryhmät. \nLämpimästi tervetuloa!
URL:https://etelansyli.fi/tapahtuma/syomishairiota-sairastavien-ja-toipuvien-ryhma-jarvenpaa-2-3/
LOCATION:Järvenpään kirjasto\, Kirjastokatu 8\, Järvenpää
CATEGORIES:Sairastavalle,Toipuvalle,Vertaistuki,Vertaistukiryhmä
ORGANIZER;CN="Etel%C3%A4n-SYLI ry":MAILTO:info@etelansyli.fi
END:VEVENT
END:VCALENDAR