BEGIN:VCALENDAR
VERSION:2.0
PRODID:-//Etelän-SYLI ry - ECPv6.15.20//NONSGML v1.0//EN
CALSCALE:GREGORIAN
METHOD:PUBLISH
X-WR-CALNAME:Etelän-SYLI ry
X-ORIGINAL-URL:https://etelansyli.fi
X-WR-CALDESC:Tapahtumat Etelän-SYLI ry
REFRESH-INTERVAL;VALUE=DURATION:PT1H
X-Robots-Tag:noindex
X-PUBLISHED-TTL:PT1H
BEGIN:VTIMEZONE
TZID:Europe/Helsinki
BEGIN:DAYLIGHT
TZOFFSETFROM:+0200
TZOFFSETTO:+0300
TZNAME:EEST
DTSTART:20240331T010000
END:DAYLIGHT
BEGIN:STANDARD
TZOFFSETFROM:+0300
TZOFFSETTO:+0200
TZNAME:EET
DTSTART:20241027T010000
END:STANDARD
BEGIN:DAYLIGHT
TZOFFSETFROM:+0200
TZOFFSETTO:+0300
TZNAME:EEST
DTSTART:20250330T010000
END:DAYLIGHT
BEGIN:STANDARD
TZOFFSETFROM:+0300
TZOFFSETTO:+0200
TZNAME:EET
DTSTART:20251026T010000
END:STANDARD
BEGIN:DAYLIGHT
TZOFFSETFROM:+0200
TZOFFSETTO:+0300
TZNAME:EEST
DTSTART:20260329T010000
END:DAYLIGHT
BEGIN:STANDARD
TZOFFSETFROM:+0300
TZOFFSETTO:+0200
TZNAME:EET
DTSTART:20261025T010000
END:STANDARD
END:VTIMEZONE
BEGIN:VEVENT
DTSTART;TZID=Europe/Helsinki:20250901T173000
DTEND;TZID=Europe/Helsinki:20250901T190000
DTSTAMP:20260423T073603
CREATED:20250616T082756Z
LAST-MODIFIED:20250821T063909Z
UID:10045623-1756747800-1756753200@etelansyli.fi
SUMMARY:Kysy asiantuntijalta -tunti\, Zoom
DESCRIPTION:Avoin ja maksuton ilta on suunnattu kaikille omaa kehonkuvaa\, syömistään ja/tai liikkumistaan pohtiville. \nRyhmässä keskustellaan turvallisessa ja toipumismyönteisessä hengessä huoneentaulun pohjalta. \nOhjaajina toimivat yhdistyksen vapaaehtoiset ja syömishäiriötyön ammattilainen. \nPaikka: Osallistu klikkaamalla tätä Zoom-linkkiä.\nAika: Ma 1.9. ja 15.12. klo 17.30–19. \nVoit lähettää kysymyksiä etukäteen: \n\n1.9. kokoontumisessa mukana neuromoninaisten valmentaja Heta Eskelinen\, joka alustaa aiheesta syömishäiriöoireet ja neuromoninaisuus.\nJätä kysymykset viimeistään to 21.8. tämän linkin kautta huomioiden\, että ne käydään illassa avoimesti läpi.\n15.12. kokoontumisessa mukana syömishäiriöihin erikoistunut psykologi ja psykoterapeutti Monica Ålgars alustamassa aiheesta syömishäiriöstä toipuminen ja kehon muutokset. Jätä kysymykset viimeistään ti 2.12. tämän linkin kautta huomioiden\, että ne käydään illassa avoimesti läpi.\n\nTunnille voit osallistua nimimerkillä. Emme edellytä mikrofonin tai kameran käyttöä. \nLämpimästi tervetuloa!
URL:https://etelansyli.fi/tapahtuma/kysy-asiantuntijalta-zoom-ryhma/
LOCATION:Zoom
CATEGORIES:Sairastavalle,Toipuvalle,Vertaistuki,Vertaistukiryhmä
ORGANIZER;CN="Etel%C3%A4n-SYLI ry":MAILTO:info@etelansyli.fi
END:VEVENT
END:VCALENDAR