BEGIN:VCALENDAR
VERSION:2.0
PRODID:-//Etelän-SYLI ry - ECPv6.15.20//NONSGML v1.0//EN
CALSCALE:GREGORIAN
METHOD:PUBLISH
X-ORIGINAL-URL:https://etelansyli.fi
X-WR-CALDESC:Tapahtumat Etelän-SYLI ry
REFRESH-INTERVAL;VALUE=DURATION:PT1H
X-Robots-Tag:noindex
X-PUBLISHED-TTL:PT1H
BEGIN:VTIMEZONE
TZID:Europe/Helsinki
BEGIN:DAYLIGHT
TZOFFSETFROM:+0200
TZOFFSETTO:+0300
TZNAME:EEST
DTSTART:20240331T010000
END:DAYLIGHT
BEGIN:STANDARD
TZOFFSETFROM:+0300
TZOFFSETTO:+0200
TZNAME:EET
DTSTART:20241027T010000
END:STANDARD
BEGIN:DAYLIGHT
TZOFFSETFROM:+0200
TZOFFSETTO:+0300
TZNAME:EEST
DTSTART:20250330T010000
END:DAYLIGHT
BEGIN:STANDARD
TZOFFSETFROM:+0300
TZOFFSETTO:+0200
TZNAME:EET
DTSTART:20251026T010000
END:STANDARD
BEGIN:DAYLIGHT
TZOFFSETFROM:+0200
TZOFFSETTO:+0300
TZNAME:EEST
DTSTART:20260329T010000
END:DAYLIGHT
BEGIN:STANDARD
TZOFFSETFROM:+0300
TZOFFSETTO:+0200
TZNAME:EET
DTSTART:20261025T010000
END:STANDARD
END:VTIMEZONE
BEGIN:VEVENT
DTSTART;TZID=Europe/Helsinki:20251212T160000
DTEND;TZID=Europe/Helsinki:20251212T180000
DTSTAMP:20260423T060328
CREATED:20250728T115312Z
LAST-MODIFIED:20251030T093225Z
UID:10045738-1765555200-1765562400@etelansyli.fi
SUMMARY:Etelän-SYLIn pikkujoulut
DESCRIPTION:Tervetuloa koristelemaan kuusi\, nauttimaan jouluisia ruokia ja laulamaan joululauluja! \nMaksuttomiin pikkujouluihin ovat tervetulleita sairastavat/toipuvat\, läheiset\, vapaaehtoiset ja ammattilaiset. \nKaikille osallistujille on luvassa pienet paketit. \nIlmoittauduthan mukaan viimeistään ma 8.12. tällä lomakkeella.\nMaksuton \nTilassa on kitara ja sähköpiano. Jos haluat säestää joululauluja tai esiintyä omalla ohjelmanumerolla\, niin kerrothan siitä etukäteen toiminnanohjaajallemme Taijalle: taija.kuula(at)etelansyli.fi. \n  \n 
URL:https://etelansyli.fi/tapahtuma/etelan-sylin-pikkujoulut-2/
LOCATION:Toimisto\, Kaapelitehdas\, B-rappu\, 4.krs\, Tallberginkatu 1\, Helsinki\, 00180\, Suomi
CATEGORIES:Ammattilaiselle,Läheiselle,Sairastavalle,Virkistys
ORGANIZER;CN="Etel%C3%A4n-SYLI ry":MAILTO:info@etelansyli.fi
END:VEVENT
END:VCALENDAR