BEGIN:VCALENDAR
VERSION:2.0
PRODID:-//Etelän-SYLI ry - ECPv6.15.20//NONSGML v1.0//EN
CALSCALE:GREGORIAN
METHOD:PUBLISH
X-ORIGINAL-URL:https://etelansyli.fi
X-WR-CALDESC:Tapahtumat Etelän-SYLI ry
REFRESH-INTERVAL;VALUE=DURATION:PT1H
X-Robots-Tag:noindex
X-PUBLISHED-TTL:PT1H
BEGIN:VTIMEZONE
TZID:Europe/Helsinki
BEGIN:DAYLIGHT
TZOFFSETFROM:+0200
TZOFFSETTO:+0300
TZNAME:EEST
DTSTART:20250330T010000
END:DAYLIGHT
BEGIN:STANDARD
TZOFFSETFROM:+0300
TZOFFSETTO:+0200
TZNAME:EET
DTSTART:20251026T010000
END:STANDARD
BEGIN:DAYLIGHT
TZOFFSETFROM:+0200
TZOFFSETTO:+0300
TZNAME:EEST
DTSTART:20260329T010000
END:DAYLIGHT
BEGIN:STANDARD
TZOFFSETFROM:+0300
TZOFFSETTO:+0200
TZNAME:EET
DTSTART:20261025T010000
END:STANDARD
BEGIN:DAYLIGHT
TZOFFSETFROM:+0200
TZOFFSETTO:+0300
TZNAME:EEST
DTSTART:20270328T010000
END:DAYLIGHT
BEGIN:STANDARD
TZOFFSETFROM:+0300
TZOFFSETTO:+0200
TZNAME:EET
DTSTART:20271031T010000
END:STANDARD
END:VTIMEZONE
BEGIN:VEVENT
DTSTART;TZID=Europe/Helsinki:20260216T123000
DTEND;TZID=Europe/Helsinki:20260216T140000
DTSTAMP:20260422T082840
CREATED:20251218T114416Z
LAST-MODIFIED:20251218T121423Z
UID:10045870-1771245000-1771250400@etelansyli.fi
SUMMARY:Kahvihetki
DESCRIPTION:Kahvihetkissä jutellaan\, mitä kulloinkin mielessä päällimmäisenä on. Olet lämpimästi tervetullut mukaan jakamaan elämän iloja ja kipuja muiden kanssa. Voit tulla yksin tai ottaa ystäväsi tai läheisesi mukaan. Kahvihetkiin ovat kaikki tervetulleita! \n\n\n\nVertaistukiryhmistä poiketen voit tulla joko koko ajaksi ma klo 12.30-14 tai piipahtamaan oman aikataulusi mukaan. Kahvihetkessä on tarjolla pientä välipalaa. \nKahvihetkiä ohjaavat yhdistyksen työntekijät. \nKahvihetkissä on käytössä turvallisemman ryhmätilan huoneentaulu\, jonka tarkoitus on taata kaikille turvallinen ja toipumista tukeva keskusteluilmapiiri. Emme kysele osallistujien diagnooseja\, vaan jokaisella on omassa tilanteessaan oikeus ja mahdollisuus tulla mukaan ja saada tukea.
URL:https://etelansyli.fi/tapahtuma/kahvihetki-32/2026-02-16/
LOCATION:Toimisto\, Kaapelitehdas\, B-rappu\, 4.krs\, Tallberginkatu 1\, Helsinki\, 00180\, Suomi
CATEGORIES:Kahvihetki,Läheiselle,Sairastavalle,Toipuvalle,Työntekijävetoinen tukitoiminta
ORGANIZER;CN="Etel%C3%A4n-SYLI ry":MAILTO:info@etelansyli.fi
END:VEVENT
BEGIN:VEVENT
DTSTART;TZID=Europe/Helsinki:20260217T140000
DTEND;TZID=Europe/Helsinki:20260217T163000
DTSTAMP:20260422T082840
CREATED:20251217T131214Z
LAST-MODIFIED:20260216T072533Z
UID:10045863-1771336800-1771345800@etelansyli.fi
SUMMARY:Luova iltapäivä Zoomissa: Kuka olen ilman syömishäiriötä? Tutkimusmatka itseen
DESCRIPTION:Luovassa iltapäivässä rauhoitumme ensin ruutujen äärelle vaikkapa teekupposen kera jakamaan ajatuksia minuudesta ja identiteetistä:  \nKuka minä olen nyt\, kuka olin ennen ja kuka voisin tulevaisuudessa olla? \nSen jälkeen tuotetaan kuva tai muu teos (vaikkapa veistos!)\, jonka koon\, materiaalit ja tyylin voit itse valita sen mukaan\, mikä omimmalta tuntuu. \nSen kautta voit tehdä tutkimusmatkan itseesi: \n\nMiltä oma minuus tuntuu ja näyttää?\nMitä erilaisia identiteettejä itsestäni löydän?\nMitä puolia itsestäni haluaisin korostaa\, mitä häivyttää?\nOnko syömishäiriö piilottanut minussa jotain\, joka ansaitsee tulla esille?\n\nKeskustelemme tekemisen lomassa ja sen päätteeksi työskentelystä ja siitä heräävistä ajatuksista.  \nTyöpaja ei edellytä taiteellista harrastuneisuutta tai muita ennakkovalmisteluja; tule sellaisena kuin olet!  \nKaikenlaiset materiaalit sanomalehdistä pahvilaatikoihin ja liiduista vesiväreihin kelpaavat hyvin. Jos haluaisit hankkia taiteiluun jotain erityisiä materiaaleja\, voi yhdistys kuittia vastaan maksaa osallistujien tarvikekuluja maks. 15 euron verran.  \nTyöpajaan otetaan maks. 10 osallistujaa ilmoittautumisjärjestyksessä. Työpaja on maksuton.  \nIlmoittautumiset tällä lomakkeella 16.2.2026 mennessä. Ilmoittautujille lähetetään Zoom-linkki paria päivää ennen työpajaa. \nTyöpajan ohjaajan esittely:\n\nOlen Pihla\, yksi Etelän-SYLIn kolmesta työntekijästä. Olen myös oman elämäni luova väkertäjä\, harrastelijamuusikko\, tuunaaja\, kollaasintekijä ja käsityöharrastelija. Uskon luovan tekemisen/taiteilun voimaan tunteiden ja ajatusten selkeyttämisen ja käsittelyn mitä oivallisimpana työkaluna. 
URL:https://etelansyli.fi/tapahtuma/luova-iltapaiva-zoomissa-kuka-olen-ilman-syomishairiota-tutkimusmatka-itseen/
LOCATION:Zoom
CATEGORIES:Sairastavalle,Toipuvalle,Työntekijävetoinen tukitoiminta,Työpaja,Zoom
ORGANIZER;CN="Etel%C3%A4n-SYLI ry":MAILTO:info@etelansyli.fi
END:VEVENT
BEGIN:VEVENT
DTSTART;TZID=Europe/Helsinki:20260219T170000
DTEND;TZID=Europe/Helsinki:20260219T180000
DTSTAMP:20260422T082840
CREATED:20251215T073622Z
LAST-MODIFIED:20251215T073622Z
UID:10045841-1771520400-1771524000@etelansyli.fi
SUMMARY:Zoom-teehetki
DESCRIPTION:2025 alkaneet Zoom-teehetket jatkuvat myös 2026. Järjestämme työntekijän ohjaamia Zoom-teehetkiä kerran kuukaudessa torstaisin klo 17-18. Alkuillan teehetkeen toivomme ehtivän niiden\, joille iltapäivän kahvihetki on hieman aikaisin. \nZoom-teehetkessä jutellaan siitä\, mitä kulloinkin mielessä päällimmäisenä on. Olet lämpimästi tervetullut mukaan jakamaan elämän iloja ja kipuja muiden kanssa. Vertaistukiryhmistä poiketen voit tulla joko koko ajaksi tai piipahtamaan oman aikataulusi mukaan. \nMyös Zoom-teehetkissä on käytössä ryhmätilan huoneentaulu\, jonka tarkoitus on taata kaikille turvallinen ja toipumista tukeva keskusteluilmapiiri. Emme kysele diagnooseja\, vaan ihan jokaisella on omassa tilanteessaan oikeus ja mahdollisuus tulla mukaan ja saada tukea. \nMuistathan etäyhteyden päässä kiinnittää erityistä huomiota siihen\, että ulkopuoliset eivät pääse kuulemaan tai näkemään keskusteluja. Ryhmään osallistutaan kamera päällä. Rauhoituthan hetkeen ja teet olosi mukavaksi. \nOsallistu Zoom-teehetkeen tästä! 
URL:https://etelansyli.fi/tapahtuma/zoom-teehetki-4/2026-02-19/
LOCATION:Zoom
CATEGORIES:Läheiselle,Sairastavalle,Toipuvalle,Työntekijävetoinen tukitoiminta,Zoom-teehetki
ORGANIZER;CN="Etel%C3%A4n-SYLI ry":MAILTO:info@etelansyli.fi
END:VEVENT
END:VCALENDAR