BEGIN:VCALENDAR
VERSION:2.0
PRODID:-//Etelän-SYLI ry - ECPv6.15.20//NONSGML v1.0//EN
CALSCALE:GREGORIAN
METHOD:PUBLISH
X-WR-CALNAME:Etelän-SYLI ry
X-ORIGINAL-URL:https://etelansyli.fi
X-WR-CALDESC:Tapahtumat Etelän-SYLI ry
REFRESH-INTERVAL;VALUE=DURATION:PT1H
X-Robots-Tag:noindex
X-PUBLISHED-TTL:PT1H
BEGIN:VTIMEZONE
TZID:Europe/Helsinki
BEGIN:DAYLIGHT
TZOFFSETFROM:+0200
TZOFFSETTO:+0300
TZNAME:EEST
DTSTART:20240331T010000
END:DAYLIGHT
BEGIN:STANDARD
TZOFFSETFROM:+0300
TZOFFSETTO:+0200
TZNAME:EET
DTSTART:20241027T010000
END:STANDARD
BEGIN:DAYLIGHT
TZOFFSETFROM:+0200
TZOFFSETTO:+0300
TZNAME:EEST
DTSTART:20250330T010000
END:DAYLIGHT
BEGIN:STANDARD
TZOFFSETFROM:+0300
TZOFFSETTO:+0200
TZNAME:EET
DTSTART:20251026T010000
END:STANDARD
BEGIN:DAYLIGHT
TZOFFSETFROM:+0200
TZOFFSETTO:+0300
TZNAME:EEST
DTSTART:20260329T010000
END:DAYLIGHT
BEGIN:STANDARD
TZOFFSETFROM:+0300
TZOFFSETTO:+0200
TZNAME:EET
DTSTART:20261025T010000
END:STANDARD
END:VTIMEZONE
BEGIN:VEVENT
DTSTART;TZID=Europe/Helsinki:20250307T173000
DTEND;TZID=Europe/Helsinki:20250307T190000
DTSTAMP:20260425T164052
CREATED:20250117T121537Z
LAST-MODIFIED:20250303T053646Z
UID:10045445-1741368600-1741374000@etelansyli.fi
SUMMARY:Äänimaljarentoutus sairastaville ja toipuville
DESCRIPTION:Tervetuloa hengähtämään äänimaljarentoutuksen parissa!  \nRentoudumme ensin äänimaljojen hyvää tekevässä syleilyssä. Sen jälkeen tarjolla on teetä\, pientä purtavaa ja tilaa keskustella. Oman maton voi tuoda. Yhdistyksen matot ovat myös käytössä.  \nÄänimaljarentoutus on tarkoitettu syömishäiriöitä sairastaville ja siitä toipuville.  \nOhjaajan eli Annukan terveiset:  \nOlen ravitsemusterapeutti\, joogaopettaja\, ayurveda- ja äänimaljahoitaja.\nTyössäni syömishäiriötä sairastavien parissa huomasin nopeasti\, miten rentoutumisen ja tekemisestä irti päästämisen taito on hukassa.  \nSekä sairastunut että läheiset ovat usein tilassa\, jossa mieli ja keho ovat jatkuvasti ylivirittyneitä eikä lepohermoston aktivaatio enää meinaa onnistua. Tämä huomio sai minut opiskelemaan menetelmiä\, joilla lepohermostoa voidaan auttaa aktivoitumaan taas vähitellen.  \nÄänimaljarentoutuksessa maljojen\, gongin ja koshien äänten värähtelyt vievät sinut lempeästi tilaan\, jossa sekä kehon että mielen on mahdollisuus ottaa pieni tauko tekemisestä.  \nSaat pysähtyä olemaan ja jättää kaiken tekemisen ja täytymisen hetkeksi.  \nAnnukka (Syömishäiriökeskus)  \nHengähdyshetki on maksuton ja mukaan mahtuu 10 hlöä. Ilmoittautumislista on täynnä\, mutta voit ilmoittautua varasijalle: pihla.aaltonen(at)etelansyli.fi
URL:https://etelansyli.fi/tapahtuma/aanimaljarentoutus-sairastaville-ja-toipuville-kaapelilla/
LOCATION:Toimisto\, Kaapelitehdas\, B-rappu\, 4.krs\, Tallberginkatu 1\, Helsinki\, 00180\, Suomi
CATEGORIES:Sairastavalle,Toipuvalle
ORGANIZER;CN="Etel%C3%A4n-SYLI ry":MAILTO:info@etelansyli.fi
END:VEVENT
END:VCALENDAR