BEGIN:VCALENDAR
VERSION:2.0
PRODID:-//Etelän-SYLI ry - ECPv6.15.20//NONSGML v1.0//EN
CALSCALE:GREGORIAN
METHOD:PUBLISH
X-WR-CALNAME:Etelän-SYLI ry
X-ORIGINAL-URL:https://etelansyli.fi
X-WR-CALDESC:Tapahtumat Etelän-SYLI ry
REFRESH-INTERVAL;VALUE=DURATION:PT1H
X-Robots-Tag:noindex
X-PUBLISHED-TTL:PT1H
BEGIN:VTIMEZONE
TZID:Europe/Helsinki
BEGIN:DAYLIGHT
TZOFFSETFROM:+0200
TZOFFSETTO:+0300
TZNAME:EEST
DTSTART:20240331T010000
END:DAYLIGHT
BEGIN:STANDARD
TZOFFSETFROM:+0300
TZOFFSETTO:+0200
TZNAME:EET
DTSTART:20241027T010000
END:STANDARD
BEGIN:DAYLIGHT
TZOFFSETFROM:+0200
TZOFFSETTO:+0300
TZNAME:EEST
DTSTART:20250330T010000
END:DAYLIGHT
BEGIN:STANDARD
TZOFFSETFROM:+0300
TZOFFSETTO:+0200
TZNAME:EET
DTSTART:20251026T010000
END:STANDARD
BEGIN:DAYLIGHT
TZOFFSETFROM:+0200
TZOFFSETTO:+0300
TZNAME:EEST
DTSTART:20260329T010000
END:DAYLIGHT
BEGIN:STANDARD
TZOFFSETFROM:+0300
TZOFFSETTO:+0200
TZNAME:EET
DTSTART:20261025T010000
END:STANDARD
END:VTIMEZONE
BEGIN:VEVENT
DTSTART;TZID=Europe/Helsinki:20250609T123000
DTEND;TZID=Europe/Helsinki:20250609T140000
DTSTAMP:20260424T175430
CREATED:20250415T121045Z
LAST-MODIFIED:20250415T121110Z
UID:10045537-1749472200-1749477600@etelansyli.fi
SUMMARY:Kahvihetki
DESCRIPTION:Kahvihetkissä jutellaan\, mitä kulloinkin mielessä päällimmäisenä on. Olet lämpimästi tervetullut mukaan jakamaan elämän iloja ja kipuja muiden kanssa. Voit tulla yksin tai ottaa ystäväsi tai läheisesi mukaan. Kahvihetkiin ovat kaikki tervetulleita! \n\n\n\nVertaistukiryhmistä poiketen voit tulla joko koko ajaksi ma klo 12.30-14 tai piipahtamaan oman aikataulusi mukaan. Kahvihetkessä on tarjolla pientä välipalaa. \nKahvihetkiä ohjaavat yhdistyksen työntekijät. \nKahvihetkissä on käytössä ryhmätilan huoneentaulu\, jonka tarkoitus on taata kaikille turvallinen ja toipumista tukeva keskusteluilmapiiri. Emme kysele osallistujien diagnooseja\, vaan jokaisella on omassa tilanteessaan oikeus ja mahdollisuus tulla mukaan ja saada tukea.
URL:https://etelansyli.fi/tapahtuma/28404/2025-06-09/
LOCATION:Toimisto\, Kaapelitehdas\, B-rappu\, 4.krs\, Tallberginkatu 1\, Helsinki\, 00180\, Suomi
CATEGORIES:Kahvihetki,Läheiselle,Sairastavalle,Toipuvalle,Työntekijävetoinen tukitoiminta,Vertaistuki
ORGANIZER;CN="Etel%C3%A4n-SYLI ry":MAILTO:info@etelansyli.fi
END:VEVENT
BEGIN:VEVENT
DTSTART;TZID=Europe/Helsinki:20250610T113000
DTEND;TZID=Europe/Helsinki:20250610T123000
DTSTAMP:20260424T175430
CREATED:20250507T054131Z
LAST-MODIFIED:20250514T100316Z
UID:10045566-1749555000-1749558600@etelansyli.fi
SUMMARY:Lounashetki
DESCRIPTION:Tervetuloa lounastamaan porukalla Etelän-SYLIn viihtyisiin toimitiloihin Kaapelitehtaalla! \nKesän lounashetki järjestetään viikottain klo 11.30-12.30 Etelän-SYLIn toimitiloissa\, Kaapelitehtaan B-rapun 4. kerroksessa. \nLounashetken päivämäärät:\nTiistaisin: 27.5\, 10.6\, 24.6\nKeskiviikkoisin: 4.6\, 18.6\, 2.7\, 9.7 \nTuo oma lounas mukaan. Kaapelilla on mikro\, veden- ja kahvinkeitin\, sekä astiat + ruokailuvälineet. Sinun ei tarvitse ilmoittautua lounashetkeen\, mutta tulethan paikalle heti 11.30 aikoihin\, jotta yhteinen ruokailu mahdollistuu. Aikatauluihin tulevat muutokset päivitämme aina verkkosivujen tapahtumakalenteriin\, joten tarkistathan sen ennen lounashetkeen lähtöä. \nLounashetki on sinulle\, joka kaipaat ruokaseuraa ja keskustelua. Se on sinulle\, joka koet\, että yhdessä syöminen vahvistaa tervettä ruokasuhdetta ja edistää toipumista. Huomioithan\, että lounashetken aikana syömme lounaan eli aterian\, joten tuo mukanasi muutakin kuin pientä välipalaa. Lounaan lomassa voimme keskustella ja jakaa kuulumisia. Keskustelua ohjaa\, kuten muussakin toiminnassamme\, ryhmätilan huoneentaulu. \nJos koet yhdessä syömisen triggeröivän paljon syömishäiriöajatuksia (kuten vertailu)\, kannustamme miettimään\, olisiko jokin toinen Etelän-SYLIn toimintamuoto sinulle sopivampi. \nJos sinulla on kysyttävää lounashetkestä\, ota yhteyttä: pihla.aaltonen(at)etelansyli.fi. \n 
URL:https://etelansyli.fi/tapahtuma/lounashetki/2025-06-10/
LOCATION:Toimisto\, Kaapelitehdas\, B-rappu\, 4.krs\, Tallberginkatu 1\, Helsinki\, 00180\, Suomi
CATEGORIES:Lounashetki,Toipuvalle,Työntekijävetoinen tukitoiminta
ORGANIZER;CN="Etel%C3%A4n-SYLI ry":MAILTO:info@etelansyli.fi
END:VEVENT
BEGIN:VEVENT
DTSTART;TZID=Europe/Helsinki:20250610T170000
DTEND;TZID=Europe/Helsinki:20250610T190000
DTSTAMP:20260424T175430
CREATED:20250514T063630Z
LAST-MODIFIED:20250514T063630Z
UID:10045586-1749574800-1749582000@etelansyli.fi
SUMMARY:Musiikki mielen hyvinvoinnin tukena-työpaja
DESCRIPTION:Tervetuloa pohtimaan\, miten musiikki\, sen kuunteleminen\, kokeminen ja tekeminen\, voi edistää mielenterveyttä ja antaa työvälineitä myös toipumisen tueksi ja oman kokemuksen käsittelyyn.  \nVapaamuotoisen keskustelun kautta voimme yhdessä pohtia\, mitä musiikki itselle merkitsee\, mikä sen rooli elämässä ja hyvinvoinnissa on ja mitä tunteita ja toiveita siihen voi liittyä. Miten käytämme musiikkia tuomaan iloa ja voimaa arkeen? Mitä muita työkaluja omasta hyvinvoinnista huolehtimiseen musiikin kuuntelu\, keikalla käyminen tai muu musatoiminta tarjoaa? Miten musiikki ja muistot liittyvät yhteen?\n\nIllan aikana voimme jakaa kokemuksiamme musiikin voimasta ja myös kokeilla eri instrumentteja. Mukana on ainakin sähkökitara+vahvistin\, basso ja kosketinsoitin. Niitä saa halutessaan kokeilla\, eikä ennakkotietoja tai -taitoja tarvita.  \nEnnakko-orientaationa iltaan valitse jokin esine\, johon liittyy sinulle tärkeä musamuisto.  Se voi olla konserttilippu\, festarivalokuva\, kasetti… tuo mukanasi tämä esine ja kerro sinulle tärkeästä muistosta.  \nTyöpaja kokoontuu Etelän-SYLI:n tiloissa Kaapelitehtaalla tiistaina 10.6. klo 17-19. Tarjolla teetä\, kahvia ja pientä iltapalaa.  \nTyöpajaan otetaan max. 8 hlöä\, ilmoittautumiset 8.6 mennessä: pihla.aaltonen(at)etelansyli.fi. Pihlalta voit myös kysyä lisää työpajasta.  \nTyöpaja on maksuton.
URL:https://etelansyli.fi/tapahtuma/musiikki-mielen-hyvinvoinnin-tukena-tyopaja/
LOCATION:Toimisto\, Kaapelitehdas\, B-rappu\, 4.krs\, Tallberginkatu 1\, Helsinki\, 00180\, Suomi
CATEGORIES:Läheiselle,Sairastavalle,Toipuvalle,Työntekijävetoinen tukitoiminta,Työpaja,Vapaaehtoiselle
ORGANIZER;CN="Etel%C3%A4n-SYLI ry":MAILTO:info@etelansyli.fi
END:VEVENT
END:VCALENDAR