BEGIN:VCALENDAR
VERSION:2.0
PRODID:-//Etelän-SYLI ry - ECPv6.15.20//NONSGML v1.0//EN
CALSCALE:GREGORIAN
METHOD:PUBLISH
X-WR-CALNAME:Etelän-SYLI ry
X-ORIGINAL-URL:https://etelansyli.fi
X-WR-CALDESC:Tapahtumat Etelän-SYLI ry
REFRESH-INTERVAL;VALUE=DURATION:PT1H
X-Robots-Tag:noindex
X-PUBLISHED-TTL:PT1H
BEGIN:VTIMEZONE
TZID:Europe/Helsinki
BEGIN:DAYLIGHT
TZOFFSETFROM:+0200
TZOFFSETTO:+0300
TZNAME:EEST
DTSTART:20240331T010000
END:DAYLIGHT
BEGIN:STANDARD
TZOFFSETFROM:+0300
TZOFFSETTO:+0200
TZNAME:EET
DTSTART:20241027T010000
END:STANDARD
BEGIN:DAYLIGHT
TZOFFSETFROM:+0200
TZOFFSETTO:+0300
TZNAME:EEST
DTSTART:20250330T010000
END:DAYLIGHT
BEGIN:STANDARD
TZOFFSETFROM:+0300
TZOFFSETTO:+0200
TZNAME:EET
DTSTART:20251026T010000
END:STANDARD
BEGIN:DAYLIGHT
TZOFFSETFROM:+0200
TZOFFSETTO:+0300
TZNAME:EEST
DTSTART:20260329T010000
END:DAYLIGHT
BEGIN:STANDARD
TZOFFSETFROM:+0300
TZOFFSETTO:+0200
TZNAME:EET
DTSTART:20261025T010000
END:STANDARD
END:VTIMEZONE
BEGIN:VEVENT
DTSTART;TZID=Europe/Helsinki:20250709T113000
DTEND;TZID=Europe/Helsinki:20250709T123000
DTSTAMP:20260424T115124
CREATED:20250507T054131Z
LAST-MODIFIED:20250514T100316Z
UID:10045587-1752060600-1752064200@etelansyli.fi
SUMMARY:Lounashetki
DESCRIPTION:Tervetuloa lounastamaan porukalla Etelän-SYLIn viihtyisiin toimitiloihin Kaapelitehtaalla! \nKesän lounashetki järjestetään viikottain klo 11.30-12.30 Etelän-SYLIn toimitiloissa\, Kaapelitehtaan B-rapun 4. kerroksessa. \nLounashetken päivämäärät:\nTiistaisin: 27.5\, 10.6\, 24.6\nKeskiviikkoisin: 4.6\, 18.6\, 2.7\, 9.7 \nTuo oma lounas mukaan. Kaapelilla on mikro\, veden- ja kahvinkeitin\, sekä astiat + ruokailuvälineet. Sinun ei tarvitse ilmoittautua lounashetkeen\, mutta tulethan paikalle heti 11.30 aikoihin\, jotta yhteinen ruokailu mahdollistuu. Aikatauluihin tulevat muutokset päivitämme aina verkkosivujen tapahtumakalenteriin\, joten tarkistathan sen ennen lounashetkeen lähtöä. \nLounashetki on sinulle\, joka kaipaat ruokaseuraa ja keskustelua. Se on sinulle\, joka koet\, että yhdessä syöminen vahvistaa tervettä ruokasuhdetta ja edistää toipumista. Huomioithan\, että lounashetken aikana syömme lounaan eli aterian\, joten tuo mukanasi muutakin kuin pientä välipalaa. Lounaan lomassa voimme keskustella ja jakaa kuulumisia. Keskustelua ohjaa\, kuten muussakin toiminnassamme\, ryhmätilan huoneentaulu. \nJos koet yhdessä syömisen triggeröivän paljon syömishäiriöajatuksia (kuten vertailu)\, kannustamme miettimään\, olisiko jokin toinen Etelän-SYLIn toimintamuoto sinulle sopivampi. \nJos sinulla on kysyttävää lounashetkestä\, ota yhteyttä: pihla.aaltonen(at)etelansyli.fi. \n 
URL:https://etelansyli.fi/tapahtuma/lounashetki/2025-07-09/
LOCATION:Toimisto\, Kaapelitehdas\, B-rappu\, 4.krs\, Tallberginkatu 1\, Helsinki\, 00180\, Suomi
CATEGORIES:Lounashetki,Toipuvalle,Työntekijävetoinen tukitoiminta
ORGANIZER;CN="Etel%C3%A4n-SYLI ry":MAILTO:info@etelansyli.fi
END:VEVENT
END:VCALENDAR