BEGIN:VCALENDAR
VERSION:2.0
PRODID:-//Etelän-SYLI ry - ECPv6.15.20//NONSGML v1.0//EN
CALSCALE:GREGORIAN
METHOD:PUBLISH
X-ORIGINAL-URL:https://etelansyli.fi
X-WR-CALDESC:Tapahtumat Etelän-SYLI ry
REFRESH-INTERVAL;VALUE=DURATION:PT1H
X-Robots-Tag:noindex
X-PUBLISHED-TTL:PT1H
BEGIN:VTIMEZONE
TZID:Europe/Helsinki
BEGIN:DAYLIGHT
TZOFFSETFROM:+0200
TZOFFSETTO:+0300
TZNAME:EEST
DTSTART:20240331T010000
END:DAYLIGHT
BEGIN:STANDARD
TZOFFSETFROM:+0300
TZOFFSETTO:+0200
TZNAME:EET
DTSTART:20241027T010000
END:STANDARD
BEGIN:DAYLIGHT
TZOFFSETFROM:+0200
TZOFFSETTO:+0300
TZNAME:EEST
DTSTART:20250330T010000
END:DAYLIGHT
BEGIN:STANDARD
TZOFFSETFROM:+0300
TZOFFSETTO:+0200
TZNAME:EET
DTSTART:20251026T010000
END:STANDARD
BEGIN:DAYLIGHT
TZOFFSETFROM:+0200
TZOFFSETTO:+0300
TZNAME:EEST
DTSTART:20260329T010000
END:DAYLIGHT
BEGIN:STANDARD
TZOFFSETFROM:+0300
TZOFFSETTO:+0200
TZNAME:EET
DTSTART:20261025T010000
END:STANDARD
END:VTIMEZONE
BEGIN:VEVENT
DTSTART;TZID=Europe/Helsinki:20250826T100000
DTEND;TZID=Europe/Helsinki:20250826T120000
DTSTAMP:20260424T020728
CREATED:20250721T101539Z
LAST-MODIFIED:20250721T101539Z
UID:10045736-1756202400-1756209600@etelansyli.fi
SUMMARY:Tuki- ja neuvontachat HUOM! Poikkeuksellisesti tiistaina
DESCRIPTION:Chat on sinua varten\, jos syömishäiriö koskettaa sinun tai läheisesi elämää? Kaipaisitko tietoa tai tukea avun hakemiseksi ja toipumisen edistämiseksi?  \n \nChatissa voit kysyä tarjolla olevasta tukitoiminnasta\, saada tietoa syömishäiriöihin liittyen sekä keskustella syömisen\, kehonkuvan tai liikunnan haasteista. Lääkityksiin tai muihin hoidollisiin asioihin emme valitettavasti voi ottaa kantaa. \nChat-viesteihin vastaa yhdistyksen työntekijä. \nKeskustelua käydään verkkosivujen etusivulle ilmaantuvan chat-ikkunan kautta. Viesteihin vastataan saapumisjärjestyksessä. \nJos chat on ruuhkautunut tai putoat linjoilta\, voit antaa sähköpostiosoitteesi\, niin otamme sinuun yhteyttä myöhemmin. Muistathan keskustelun päätteeksi kirjautua ulos chatista. \nLämpimästi tervetuloa juttelemaan!
URL:https://etelansyli.fi/tapahtuma/tuki-ja-neuvontachat-huom-poikkeuksellisesti-tiistaina-2/
LOCATION:Tukinet
CATEGORIES:Ammattilaiselle,Läheiselle,Sairastavalle,Tuki- ja neuvonta -chat,Työntekijävetoinen tukitoiminta
ORGANIZER;CN="Etel%C3%A4n-SYLI ry":MAILTO:info@etelansyli.fi
END:VEVENT
BEGIN:VEVENT
DTSTART;TZID=Europe/Helsinki:20250827T140000
DTEND;TZID=Europe/Helsinki:20250827T160000
DTSTAMP:20260424T020728
CREATED:20250502T081527Z
LAST-MODIFIED:20250703T101043Z
UID:10045556-1756303200-1756310400@etelansyli.fi
SUMMARY:Luova iltapäivä: taidetyöpaja Kaapelilla
DESCRIPTION:Tervetuloa keskiviikkoina 20.8 & 27.8 klo 14-16 pidettävään luovaan työpajaan Kaapelitehtaan viihtyisiin toimitiloihin! \nTässä työpajassa työstetään omaa toipumispolkua ja piirretään esiin suuntaviivoja kahden taidetyöpajan avulla. \nEnsimmäisen teemana on nykyhetki. Miltä se näyttää? Mitä siihen kuuluu? Mitä voimavaroja ja mitä haasteita siinä löydät? Onko jotain\, joka erityisesti kaipaa huomiotasi? Työskentelyn avulla voit tarkastelella syömishäiriön roolia nykyhetkessä ja sen vaikutusta elämäsi eri osa-alueisiin. \nToisen pajan aiheena on tulevaisuus. Voit valita\, mietitkö elämääsi vaikkapa vuoden\, viiden tai kymmenen vuoden päästä. Mitä tulevaisuudessa näkyy? Onko sinulla haaveita\, toiveita\, tavoitteita? Mitä nykyisyydestä veisit mukanasi tulevaan\, mitä jättäisit taaksesi? Miten toipumispolkusi on edennyt? \nMolemmissa pajoissa tuotetaan paperille kuva\, jonka koon\, materiaalit ja tyylin voit itse valita sen mukaan\, mikä omimmalta tuntuu. Keskustelemme tekemisen lomassa ja sen päätteeksi työskentelystä ja siitä heräävistä ajatuksista.  \nTyöpaja ei edellytä taiteellista harrastuneisuutta tai muita ennakkovalmisteluja; tule sellaisena kuin olet! Kaapelitehdas tarjoaa tarvikkeet piirtämiseen\, maalaukseen ja kollaasintekoon\, mutta olet toki tervetullut tuomaan myös omia materiaaleja.   \nTyöpajaan otetaan max. 10 osallistujaa ilmoittautumisjärjestyksessä ja tarjolla on kahvia ja teetä. Työpaja on maksuton. Ilmoittautumiset ohjaajalle 17.8 mennessä tällä lomakkeella. \nTyöpajan ohjaajan esittely:\nHei\, olen Pihla\, yksi Etelän-SYLIn kolmesta työntekijästä. Olen myös oman elämäni luova väkertäjä\, harrastelijamuusikko\, tuunaaja\, kollaasintekijä ja käsityöharrastelija. Uskon luovan tekemisen/taiteilun voimaan tunteiden ja ajatusten selkeyttämisen ja käsittelyn mitä oivallisimpana työkaluna. 
URL:https://etelansyli.fi/tapahtuma/luova-iltapaiva-taidetyopaja-kaapelilla/2025-08-27/
LOCATION:Toimisto\, Kaapelitehdas\, B-rappu\, 4.krs\, Tallberginkatu 1\, Helsinki\, 00180\, Suomi
CATEGORIES:Sairastavalle,Toipuvalle,Työntekijävetoinen tukitoiminta,Työpaja
ATTACH;FMTTYPE=image/jpeg:https://etelansyli.fi/a/wp-content/uploads/2025/04/fiona-murray-degraaff-NTcD9_pEvQQ-unsplash-scaled.jpg
ORGANIZER;CN="Etel%C3%A4n-SYLI ry":MAILTO:info@etelansyli.fi
END:VEVENT
END:VCALENDAR