BEGIN:VCALENDAR
VERSION:2.0
PRODID:-//Etelän-SYLI ry - ECPv6.15.20//NONSGML v1.0//EN
CALSCALE:GREGORIAN
METHOD:PUBLISH
X-WR-CALNAME:Etelän-SYLI ry
X-ORIGINAL-URL:https://etelansyli.fi
X-WR-CALDESC:Tapahtumat Etelän-SYLI ry
REFRESH-INTERVAL;VALUE=DURATION:PT1H
X-Robots-Tag:noindex
X-PUBLISHED-TTL:PT1H
BEGIN:VTIMEZONE
TZID:Europe/Helsinki
BEGIN:DAYLIGHT
TZOFFSETFROM:+0200
TZOFFSETTO:+0300
TZNAME:EEST
DTSTART:20250330T010000
END:DAYLIGHT
BEGIN:STANDARD
TZOFFSETFROM:+0300
TZOFFSETTO:+0200
TZNAME:EET
DTSTART:20251026T010000
END:STANDARD
BEGIN:DAYLIGHT
TZOFFSETFROM:+0200
TZOFFSETTO:+0300
TZNAME:EEST
DTSTART:20260329T010000
END:DAYLIGHT
BEGIN:STANDARD
TZOFFSETFROM:+0300
TZOFFSETTO:+0200
TZNAME:EET
DTSTART:20261025T010000
END:STANDARD
BEGIN:DAYLIGHT
TZOFFSETFROM:+0200
TZOFFSETTO:+0300
TZNAME:EEST
DTSTART:20270328T010000
END:DAYLIGHT
BEGIN:STANDARD
TZOFFSETFROM:+0300
TZOFFSETTO:+0200
TZNAME:EET
DTSTART:20271031T010000
END:STANDARD
END:VTIMEZONE
BEGIN:VEVENT
DTSTART;TZID=Europe/Helsinki:20260216T123000
DTEND;TZID=Europe/Helsinki:20260216T140000
DTSTAMP:20260422T094017
CREATED:20251218T114416Z
LAST-MODIFIED:20251218T121423Z
UID:10045870-1771245000-1771250400@etelansyli.fi
SUMMARY:Kahvihetki
DESCRIPTION:Kahvihetkissä jutellaan\, mitä kulloinkin mielessä päällimmäisenä on. Olet lämpimästi tervetullut mukaan jakamaan elämän iloja ja kipuja muiden kanssa. Voit tulla yksin tai ottaa ystäväsi tai läheisesi mukaan. Kahvihetkiin ovat kaikki tervetulleita! \n\n\n\nVertaistukiryhmistä poiketen voit tulla joko koko ajaksi ma klo 12.30-14 tai piipahtamaan oman aikataulusi mukaan. Kahvihetkessä on tarjolla pientä välipalaa. \nKahvihetkiä ohjaavat yhdistyksen työntekijät. \nKahvihetkissä on käytössä turvallisemman ryhmätilan huoneentaulu\, jonka tarkoitus on taata kaikille turvallinen ja toipumista tukeva keskusteluilmapiiri. Emme kysele osallistujien diagnooseja\, vaan jokaisella on omassa tilanteessaan oikeus ja mahdollisuus tulla mukaan ja saada tukea.
URL:https://etelansyli.fi/tapahtuma/kahvihetki-32/2026-02-16/
LOCATION:Toimisto\, Kaapelitehdas\, B-rappu\, 4.krs\, Tallberginkatu 1\, Helsinki\, 00180\, Suomi
CATEGORIES:Kahvihetki,Läheiselle,Sairastavalle,Toipuvalle,Työntekijävetoinen tukitoiminta
ORGANIZER;CN="Etel%C3%A4n-SYLI ry":MAILTO:info@etelansyli.fi
END:VEVENT
BEGIN:VEVENT
DTSTART;TZID=Europe/Helsinki:20260217T173000
DTEND;TZID=Europe/Helsinki:20260217T191500
DTSTAMP:20260422T094017
CREATED:20260202T091130Z
LAST-MODIFIED:20260202T134232Z
UID:10045896-1771349400-1771355700@etelansyli.fi
SUMMARY:Paneelikeskustelu: Toipumisen työkalut
DESCRIPTION:Marraskuussa järjestetty Toipumisrauha-paneelikeskustelu saa jatkoa. Olemme saaneet positiivista palautetta siitä\, miten tärkeää toipumiskokemusten kuuleminen on ja haluamme tarjota lisää tilaisuuksia tähän. \nLämpimästi tervetuloa siis ti 17.2. klo 17.30-19.15 kuuntelemaan Etelän-SYLIn Zoom-alustalla järjestettävää paneelikeskustelua\, jossa toiminnanohjaaja Pihla haastattelee kolmea syömishäiriöstä toipunutta heidän kokemuksistaan sekä niistä työkaluista\, joista oli heille toipumisen polulla tukea. \nKysymyksille ja kommenteille on varattu keskustelun loppupuolella aikaa. \nTule mukaan tästä linkistä! \nEnnakkoilmoittautumista ei tarvita\, tilaisuus on maksuton\, ja mukaan voi tulla vain kuuntelemaan. Voit kuitenkin mielellään kysyä ja kommentoida\, jos teema herättää ajatuksia. \nWebinaariin voi osallistua mikrofoni ja kamera kiinni eikä sitä tallenneta.
URL:https://etelansyli.fi/tapahtuma/webinaari-toipumiset-tyokalut-paneelikeskustelu/
LOCATION:Zoom
CATEGORIES:Ammattilaiselle,Läheiselle,Opiskelijoille,Sairastavalle,Toipuvalle,Vapaaehtoiselle,Vertaistuki,Webinaari,Zoom
ATTACH;FMTTYPE=image/png:https://etelansyli.fi/a/wp-content/uploads/2026/02/webinaari-1.png
ORGANIZER;CN="Etel%C3%A4n-SYLI ry":MAILTO:info@etelansyli.fi
END:VEVENT
BEGIN:VEVENT
DTSTART;TZID=Europe/Helsinki:20260219T093000
DTEND;TZID=Europe/Helsinki:20260219T100000
DTSTAMP:20260422T094017
CREATED:20260218T122458Z
LAST-MODIFIED:20260218T122458Z
UID:10045922-1771493400-1771495200@etelansyli.fi
SUMMARY:Instalive: Näen sinussa minut - valokuva toipumisen tukena
DESCRIPTION:Hei\, \ntule kuuntelemaan Etelän-SYLIn aamuista Instaliveä torstaina 19.2 klo 9.30-10 @etelansyli Instagram-tilillä. Yhdistyksen toiminnanohjaaja Pihla ja syksyllä 2025 valokuvaustyöpajan toteuttanut taiteilija\, valokuvaaja ja tuleva yhteisöpedagogi Emmi Kähkönen juttelevat siitä\, \n\nmiten luova tekeminen ja taide edistävät hyvinvointia\nvoiko valokuvaus toimia syömishäiriöstä toipumisen tukena\nmitä Emmi oppi valokuvatyöpajakokemuksesta\nmillainen kokemus työpaja oli siihen osallistuneille\n\nTule kuuntelemaan ja tsekkaa Emmin työpajaan pohjaava opinnäytetyö täältä. \n \n 
URL:https://etelansyli.fi/tapahtuma/instalive-naen-sinussa-minut-valokuva-toipumisen-tukena/
LOCATION:Instagram
CATEGORIES:Ammattilaiselle,Instagram-live,Läheiselle,Opiskelijoille,Sairastavalle,Toipuvalle,Vapaaehtoiselle
ORGANIZER;CN="Etel%C3%A4n-SYLI ry":MAILTO:info@etelansyli.fi
END:VEVENT
END:VCALENDAR