BEGIN:VCALENDAR
VERSION:2.0
PRODID:-//Etelän-SYLI ry - ECPv6.15.20//NONSGML v1.0//EN
CALSCALE:GREGORIAN
METHOD:PUBLISH
X-ORIGINAL-URL:https://etelansyli.fi
X-WR-CALDESC:Tapahtumat Etelän-SYLI ry
REFRESH-INTERVAL;VALUE=DURATION:PT1H
X-Robots-Tag:noindex
X-PUBLISHED-TTL:PT1H
BEGIN:VTIMEZONE
TZID:Europe/Helsinki
BEGIN:DAYLIGHT
TZOFFSETFROM:+0200
TZOFFSETTO:+0300
TZNAME:EEST
DTSTART:20230326T010000
END:DAYLIGHT
BEGIN:STANDARD
TZOFFSETFROM:+0300
TZOFFSETTO:+0200
TZNAME:EET
DTSTART:20231029T010000
END:STANDARD
BEGIN:DAYLIGHT
TZOFFSETFROM:+0200
TZOFFSETTO:+0300
TZNAME:EEST
DTSTART:20240331T010000
END:DAYLIGHT
BEGIN:STANDARD
TZOFFSETFROM:+0300
TZOFFSETTO:+0200
TZNAME:EET
DTSTART:20241027T010000
END:STANDARD
BEGIN:DAYLIGHT
TZOFFSETFROM:+0200
TZOFFSETTO:+0300
TZNAME:EEST
DTSTART:20250330T010000
END:DAYLIGHT
BEGIN:STANDARD
TZOFFSETFROM:+0300
TZOFFSETTO:+0200
TZNAME:EET
DTSTART:20251026T010000
END:STANDARD
END:VTIMEZONE
BEGIN:VEVENT
DTSTART;TZID=Europe/Helsinki:20240918T173000
DTEND;TZID=Europe/Helsinki:20240918T190000
DTSTAMP:20260423T153612
CREATED:20240626T102418Z
LAST-MODIFIED:20240918T081729Z
UID:10045207-1726680600-1726686000@etelansyli.fi
SUMMARY:Toipumista ja takapakkeja -ryhmä\, Zoom
DESCRIPTION:Maksuton ja avoin ryhmä on tarkoitettu kaikille\, jotka kokevat\, että syömishäiriö on jäänyt rinnalla kulkevaksi kumppaniksi ja toipuminen on pitkittynyt. Sairastaminen tuntuu kehossa ja mielessä\, eivätkä huolet toipumisesta anna mielelle rauhaa. \nTässä suora linkki Zoom-ryhmään! \nRyhmässä keskustellaan toipumismyönteisessä ilmapiirissä huoneentaulun pohjalta siitä\, miten päästä eteenpäin syömishäiriön pitkittyessä. \nRyhmää ohjaavat yhdistyksen koulutetut vapaaehtoiset. \nZoom-ryhmä kokoontuu klo 17.30–19 seuraavina keskiviikko-päivinä: 18.9.\, 23.10. ja 20.11. \nAsiantuntijakerrat: \n\n18.9. kokoontumista alustamassa psykiatrinen sairaanhtoiaja Erika Terho\n20.11. kokoontumista alustamassa Syömishäiriöliitto-SYLI ry:n asiantuntija Katri Mikkilä\n\nRyhmään osallistutaan kamera auki\, minkä vuoksi keskustelun näkyminen ja kuuluminen muille tulee suojata. Mietithän siis\, mistä paikasta osallistut ja mitä selkäsi takaa näkyy. Ryhmään ei voi osallistua lenkiltä tai ulkoillessa. \nLämpimästi tervetuloa!
URL:https://etelansyli.fi/tapahtuma/toipumista-ja-takapakkeja-zoom-ryhma/
LOCATION:Zoom
CATEGORIES:Vertaistukiryhmä
ORGANIZER;CN="Etel%C3%A4n-SYLI ry":MAILTO:info@etelansyli.fi
END:VEVENT
END:VCALENDAR