BEGIN:VCALENDAR
VERSION:2.0
PRODID:-//Etelän-SYLI ry - ECPv6.15.20//NONSGML v1.0//EN
CALSCALE:GREGORIAN
METHOD:PUBLISH
X-WR-CALNAME:Etelän-SYLI ry
X-ORIGINAL-URL:https://etelansyli.fi
X-WR-CALDESC:Tapahtumat Etelän-SYLI ry
REFRESH-INTERVAL;VALUE=DURATION:PT1H
X-Robots-Tag:noindex
X-PUBLISHED-TTL:PT1H
BEGIN:VTIMEZONE
TZID:Europe/Helsinki
BEGIN:DAYLIGHT
TZOFFSETFROM:+0200
TZOFFSETTO:+0300
TZNAME:EEST
DTSTART:20230326T010000
END:DAYLIGHT
BEGIN:STANDARD
TZOFFSETFROM:+0300
TZOFFSETTO:+0200
TZNAME:EET
DTSTART:20231029T010000
END:STANDARD
BEGIN:DAYLIGHT
TZOFFSETFROM:+0200
TZOFFSETTO:+0300
TZNAME:EEST
DTSTART:20240331T010000
END:DAYLIGHT
BEGIN:STANDARD
TZOFFSETFROM:+0300
TZOFFSETTO:+0200
TZNAME:EET
DTSTART:20241027T010000
END:STANDARD
BEGIN:DAYLIGHT
TZOFFSETFROM:+0200
TZOFFSETTO:+0300
TZNAME:EEST
DTSTART:20250330T010000
END:DAYLIGHT
BEGIN:STANDARD
TZOFFSETFROM:+0300
TZOFFSETTO:+0200
TZNAME:EET
DTSTART:20251026T010000
END:STANDARD
END:VTIMEZONE
BEGIN:VEVENT
DTSTART;TZID=Europe/Helsinki:20241023T173000
DTEND;TZID=Europe/Helsinki:20241023T190000
DTSTAMP:20260423T071408
CREATED:20240626T102451Z
LAST-MODIFIED:20240702T101906Z
UID:10045208-1729704600-1729710000@etelansyli.fi
SUMMARY:Toipumista ja takapakkeja -ryhmä\, Zoom
DESCRIPTION:Toipumista ja takapakkeja ZOOM-ryhmäTämä Zoom-ryhmä on tarkoitettu kaikille\, jotka kokevat syömishäiriön jääneen rinnalla kulkevaksi kumppaniksi ja toipumisen pitkittyneen. Sairastaminen tuntuu kehossa ja mielessä\, eivätkä huolet toipumisesta anna mielelle rauhaa. \nZoom-ryhmässä keskustellaan toipumismyönteisessä ilmapiirissä Huoneentaulun pohjalta siitä\, miten päästä eteenpäin syömishäiriön pitkittyessä. Ryhmää ohjaavat yhdistyksen koulutetut vapaaehtoiset\, ja joissain ryhmissä mukana myös syömishäiriötyön ammattilainen. \nZoom-ryhmä kokoontuu klo 17:30-19 seuraavina keskiviikko-päivinä: 23.10. ja 20.11. \n\n20.11. kokoontumista alustamassa Syömishäiriöliitto-SYLI ry:n asiantuntija Katri Mikkilä\, aiheesta: Esteet ja huolet toipumiseen liittyen.\n\nZoom-ryhmään osallistutaan kamera auki\, minkä vuoksi keskustelun näkyminen ja kuuluminen muille tulee suojata. Mietithän siis\, mistä paikasta osallistut ja mitä selkäsi takaa näkyy. Ryhmään ei voi osallistua lenkiltä tai ulkoillessa. \nTässä suora linkki Zoom-ryhmään! \nLämpimästi tervetuloa!
URL:https://etelansyli.fi/tapahtuma/toipumista-ja-takapakkeja-zoom-ryhma-2/
LOCATION:Zoom
CATEGORIES:Vertaistukiryhmä
ORGANIZER;CN="Etel%C3%A4n-SYLI ry":MAILTO:info@etelansyli.fi
END:VEVENT
END:VCALENDAR