BEGIN:VCALENDAR
VERSION:2.0
PRODID:-//Etelän-SYLI ry - ECPv6.15.20//NONSGML v1.0//EN
CALSCALE:GREGORIAN
METHOD:PUBLISH
X-WR-CALNAME:Etelän-SYLI ry
X-ORIGINAL-URL:https://etelansyli.fi
X-WR-CALDESC:Tapahtumat Etelän-SYLI ry
REFRESH-INTERVAL;VALUE=DURATION:PT1H
X-Robots-Tag:noindex
X-PUBLISHED-TTL:PT1H
BEGIN:VTIMEZONE
TZID:Europe/Helsinki
BEGIN:DAYLIGHT
TZOFFSETFROM:+0200
TZOFFSETTO:+0300
TZNAME:EEST
DTSTART:20240331T010000
END:DAYLIGHT
BEGIN:STANDARD
TZOFFSETFROM:+0300
TZOFFSETTO:+0200
TZNAME:EET
DTSTART:20241027T010000
END:STANDARD
BEGIN:DAYLIGHT
TZOFFSETFROM:+0200
TZOFFSETTO:+0300
TZNAME:EEST
DTSTART:20250330T010000
END:DAYLIGHT
BEGIN:STANDARD
TZOFFSETFROM:+0300
TZOFFSETTO:+0200
TZNAME:EET
DTSTART:20251026T010000
END:STANDARD
BEGIN:DAYLIGHT
TZOFFSETFROM:+0200
TZOFFSETTO:+0300
TZNAME:EEST
DTSTART:20260329T010000
END:DAYLIGHT
BEGIN:STANDARD
TZOFFSETFROM:+0300
TZOFFSETTO:+0200
TZNAME:EET
DTSTART:20261025T010000
END:STANDARD
END:VTIMEZONE
BEGIN:VEVENT
DTSTART;TZID=Europe/Helsinki:20250929T123000
DTEND;TZID=Europe/Helsinki:20250929T140000
DTSTAMP:20260423T213420
CREATED:20250623T074053Z
LAST-MODIFIED:20251124T125041Z
UID:10045694-1759149000-1759154400@etelansyli.fi
SUMMARY:Kahvihetki
DESCRIPTION:Kahvihetkissä jutellaan\, mitä kulloinkin mielessä päällimmäisenä on. Olet lämpimästi tervetullut mukaan jakamaan elämän iloja ja kipuja muiden kanssa. Voit tulla yksin tai ottaa ystäväsi tai läheisesi mukaan. Kahvihetkiin ovat kaikki tervetulleita! \n\n\n\nVertaistukiryhmistä poiketen voit tulla joko koko ajaksi ma klo 12.30-14 tai piipahtamaan oman aikataulusi mukaan. Kahvihetkessä on tarjolla pientä välipalaa. \nKahvihetkiä ohjaavat yhdistyksen työntekijät. \nKahvihetkissä on käytössä ryhmätilan huoneentaulu\, jonka tarkoitus on taata kaikille turvallinen ja toipumista tukeva keskusteluilmapiiri. Emme kysele osallistujien diagnooseja\, vaan jokaisella on omassa tilanteessaan oikeus ja mahdollisuus tulla mukaan ja saada tukea.
URL:https://etelansyli.fi/tapahtuma/kahvihetki-30/2025-09-29/
LOCATION:Toimisto\, Kaapelitehdas\, B-rappu\, 4.krs\, Tallberginkatu 1\, Helsinki\, 00180\, Suomi
CATEGORIES:Kahvihetki,Läheiselle,Sairastavalle,Toipuvalle,Työntekijävetoinen tukitoiminta
ORGANIZER;CN="Etel%C3%A4n-SYLI ry":MAILTO:info@etelansyli.fi
END:VEVENT
BEGIN:VEVENT
DTSTART;TZID=Europe/Helsinki:20250930T100000
DTEND;TZID=Europe/Helsinki:20250930T120000
DTSTAMP:20260423T213420
CREATED:20250625T103258Z
LAST-MODIFIED:20250625T103258Z
UID:10045725-1759226400-1759233600@etelansyli.fi
SUMMARY:HUOM siirtynyt keskiviikolta Tuki- ja neuvontachat
DESCRIPTION:Chat on sinua varten\, jos syömishäiriö koskettaa sinun tai läheisesi elämää. Kaipaisitko tietoa tai tukea avun hakemiseksi ja toipumisen edistämiseksi?  \n \nChatissa voit kysyä tarjolla olevasta tukitoiminnasta\, saada tietoa syömishäiriöihin liittyen sekä keskustella syömisen\, kehonkuvan tai liikunnan haasteista. Lääkityksiin tai muihin hoidollisiin asioihin emme valitettavasti voi ottaa kantaa. \nChat-viesteihin vastaa yhdistyksen työntekijä. \nKeskustelua käydään verkkosivujen etusivulle ilmaantuvan chat-ikkunan kautta. Viesteihin vastataan saapumisjärjestyksessä. \nJos chat on ruuhkautunut tai putoat linjoilta\, voit antaa sähköpostiosoitteesi\, niin otamme sinuun yhteyttä myöhemmin. Muistathan keskustelun päätteeksi kirjautua ulos chatista.
URL:https://etelansyli.fi/tapahtuma/huom-siirtynyt-keskiviikolta-tuki-ja-neuvontachat/2025-09-30/
LOCATION:Zoom
CATEGORIES:Ammattilaiselle,Läheiselle,Opiskelijoille,Sairastavalle,Toipuvalle,Tuki- ja neuvonta -chat,Työntekijävetoinen tukitoiminta
ORGANIZER;CN="Etel%C3%A4n-SYLI ry":MAILTO:info@etelansyli.fi
END:VEVENT
BEGIN:VEVENT
DTSTART;TZID=Europe/Helsinki:20251002T140000
DTEND;TZID=Europe/Helsinki:20251002T150000
DTSTAMP:20260423T213420
CREATED:20250701T090243Z
LAST-MODIFIED:20251015T081321Z
UID:10045731-1759413600-1759417200@etelansyli.fi
SUMMARY:Teemallinen Zoom-kahvihetki
DESCRIPTION:Tervetuloa teemallisille Zoom-kahveille torstaina klo 14–15!  \nKeväällä 2025 alkaneet teemalliset Zoom-kahvihetket jatkuvat taas: to 4.9\, to 2.10 ja to 6.11. Kahvihetkeä ohjaava työntekijä virittää lyhyesti päivän teemaan ja jokainen voi jakaa ajatuksiaan ja kokemuksiaan aiheesta vertaistuellisessa ilmapiirissä. \nTeemat: \n4.9 Somepaineet\, laihdutuskulttuuri\, kehoon ja ruokaan liittyvät trendit…mitä trendejä tunnistamme? Mitkä niistä ovat haitallisia? Miten ne minuun vaikuttavat ja miten suojaan itseäni somessa ja arjessa?  \n2.10 Syömishäiriö ja stigma: Mielenterveyden häiriöihin liittyy stigmaa\, mutta miksi? Leimaako syömishäiriö ja mitä siitä seuraa? Miten stigmaa voi opetella purkamaan? \n6.11 Syömishäiriöiden monimuotoisuus: Mitä syömishäiriöistä tiedetään tai kuvitellaan tiedettävän? Onko se ‘naisten sairaus’\, ‘nuoren teinikapinaa’\, vai jotain muuta? Miten siitä puhutaan mediassa?  Miten syömishäiriömyytit ja stereotypiat vaikuttavat tunnistamiseen ja toipumiseen? \nVertaistukiryhmistä poiketen voit Zoom-kahvihetkeen tulla joko koko ajaksi tai piipahtamaan oman aikataulusi mukaan. \nZoom-kahvihetkissä on käytössä ryhmätilan huoneentaulu\, jonka tarkoitus on taata kaikille turvallinen ja toipumista tukeva keskusteluilmapiiri. Emme kysele diagnooseja\, vaan ihan jokaisella on omassa tilanteessaan oikeus ja mahdollisuus tulla mukaan ja saada tukea. \nMuistathan etäyhteyden päässä kiinnittää erityistä huomiota siihen\, että ulkopuoliset eivät pääse kuulemaan tai näkemään keskusteluja. Ryhmään osallistutaan kamera päällä. Rauhoituthan hetkeen ja teet olosi mukavaksi. \nOsallistu Zoom-kahvihetkeen tästä!  \nNähdään Zoomissa!
URL:https://etelansyli.fi/tapahtuma/teemallinen-zoom-kahvihetki-2/2025-10-02/
LOCATION:Zoom
CATEGORIES:Läheiselle,Sairastavalle,Toipuvalle,Työntekijävetoinen tukitoiminta,Zoom-kahvihetki
ORGANIZER;CN="Etel%C3%A4n-SYLI ry":MAILTO:info@etelansyli.fi
END:VEVENT
BEGIN:VEVENT
DTSTART;TZID=Europe/Helsinki:20251003T173000
DTEND;TZID=Europe/Helsinki:20251003T190000
DTSTAMP:20260423T213420
CREATED:20250523T081800Z
LAST-MODIFIED:20250703T102411Z
UID:10045615-1759512600-1759518000@etelansyli.fi
SUMMARY:Äänimaljarentoutus sairastaville/toipuville
DESCRIPTION:Tervetuloa hengähtämään äänimaljarentoutuksen parissa Kaapelitehtaan toimitiloihin! \nRentoudumme ensin äänimaljojen hyvää tekevässä syleilyssä. Sen jälkeen tarjolla on teetä\, pientä purtavaa ja tilaa keskustella. Oman maton voi tuoda. Yhdistyksen matot ovat myös käytössä.  \nÄänimaljarentoutus on tarkoitettu syömishäiriöitä sairastaville ja siitä toipuville.  \nOhjaajan eli Annukan terveiset:  \nOlen ravitsemusterapeutti\, joogaopettaja\, ayurveda- ja äänimaljahoitaja.\nTyössäni syömishäiriötä sairastavien parissa huomasin nopeasti\, miten rentoutumisen ja tekemisestä irti päästämisen taito on hukassa. \nSekä sairastunut että läheiset ovat usein tilassa\, jossa mieli ja keho ovat jatkuvasti ylivirittyneitä eikä lepohermoston aktivaatio enää meinaa onnistua. Tämä huomio sai minut opiskelemaan menetelmiä\, joilla lepohermostoa voidaan auttaa aktivoitumaan taas vähitellen.  \nÄänimaljarentoutuksessa maljojen\, gongin ja koshien äänten värähtelyt vievät sinut lempeästi tilaan\, jossa sekä kehon että mielen on mahdollisuus ottaa pieni tauko tekemisestä. \nSaat pysähtyä olemaan ja jättää kaiken tekemisen ja täytymisen hetkeksi.  \nAnnukka (Syömishäiriökeskus)  \nHengähdyshetki on maksuton ja mukaan mahtuu 10 hlöä. Ilmoittautumiset 1.10 mennessä tällä lomakkeella. 
URL:https://etelansyli.fi/tapahtuma/aanimaljarentoutus-sairastaville-toipuville/
LOCATION:Toimisto\, Kaapelitehdas\, B-rappu\, 4.krs\, Tallberginkatu 1\, Helsinki\, 00180\, Suomi
CATEGORIES:Äänimaljarentoutus,Sairastavalle,Toipuvalle
ORGANIZER;CN="Etel%C3%A4n-SYLI ry":MAILTO:info@etelansyli.fi
END:VEVENT
BEGIN:VEVENT
DTSTART;TZID=Europe/Helsinki:20251004T140000
DTEND;TZID=Europe/Helsinki:20251004T170000
DTSTAMP:20260423T213420
CREATED:20250530T101710Z
LAST-MODIFIED:20250923T095304Z
UID:10045619-1759586400-1759597200@etelansyli.fi
SUMMARY:Luovan kirjoittamisen työpaja
DESCRIPTION:Työpaja on hyvä paikka työstää omia tunteita ja ajatuksia sekä nollata aivoja arjen keskellä. Tehdään mukavia\, inspiroivia ja monipuolisia kirjoitusharjoituksia ja keskustellaan kaikesta kirjoittamiseen liittyvästä ja tutustutaan eri kirjallisuuden lajeihin.  \nRyhmä on matalan kynnyksen kirjoitusryhmä. Siihen voivat osallistua kirjoitusharrastusta aloittavat sekä kokeneemmat kirjoittajat. Ryhmässä tuetaan kunkin osallistujan omaa kirjoittamista. \nTyöpajakokonaisuus on tarkoitettu sairastaville ja toipuville. \nHalukkaat voivat halutessaan jakaa tekstejään ja saada kannustavaa ja rakentavaa palautetta ohjaajalta ja ryhmältä. \nRyhmä kokoontuu lauantaisin klo 14–17. Pidämme 15 minuutin tauon kokoontumisissa. Voit osallistua yhteen tai molempiin työpajoihin samalla osallistumismaksulla. Tapaamispäivät ovat 4.10. ja 8.11. \nOhjaaja\nLuovan kirjoittamisen työpajaa ohjaa FM\, sanataideopettaja ja muusikko Aamu Pulkkinen.  \nHänellä on usean vuoden kokemus luovan kirjoittamisen työpajojen vetämisestä eri ikäisille ja kielisille ihmisille. Hän on vetänyt myös aikaisemmin luovan kirjoittamisen työpajaa Etelän-SYLIssä.    \nHinta: 5 € Etelän-SYLIn jäsenille ja 7 € ei-jäsenille. Yhdellä maksulla voit osallistua molempiin työpajoihin.  \nIlmoittautumiset 2.10. mennessä tällä lomakkeella. Lisätietoa työpajasta voit kysyä: pihla.aaltonen(at)etelansyli.fi.
URL:https://etelansyli.fi/tapahtuma/luovan-kirjoittamisen-tyopaja/2025-10-04/
LOCATION:Toimisto\, Kaapelitehdas\, B-rappu\, 4.krs\, Tallberginkatu 1\, Helsinki\, 00180\, Suomi
CATEGORIES:Sairastavalle,Toipuvalle,Työpaja
ORGANIZER;CN="Etel%C3%A4n-SYLI ry":MAILTO:info@etelansyli.fi
END:VEVENT
END:VCALENDAR