BEGIN:VCALENDAR
VERSION:2.0
PRODID:-//Etelän-SYLI ry - ECPv6.15.20//NONSGML v1.0//EN
CALSCALE:GREGORIAN
METHOD:PUBLISH
X-ORIGINAL-URL:https://etelansyli.fi
X-WR-CALDESC:Tapahtumat Etelän-SYLI ry
REFRESH-INTERVAL;VALUE=DURATION:PT1H
X-Robots-Tag:noindex
X-PUBLISHED-TTL:PT1H
BEGIN:VTIMEZONE
TZID:Europe/Helsinki
BEGIN:DAYLIGHT
TZOFFSETFROM:+0200
TZOFFSETTO:+0300
TZNAME:EEST
DTSTART:20240331T010000
END:DAYLIGHT
BEGIN:STANDARD
TZOFFSETFROM:+0300
TZOFFSETTO:+0200
TZNAME:EET
DTSTART:20241027T010000
END:STANDARD
BEGIN:DAYLIGHT
TZOFFSETFROM:+0200
TZOFFSETTO:+0300
TZNAME:EEST
DTSTART:20250330T010000
END:DAYLIGHT
BEGIN:STANDARD
TZOFFSETFROM:+0300
TZOFFSETTO:+0200
TZNAME:EET
DTSTART:20251026T010000
END:STANDARD
BEGIN:DAYLIGHT
TZOFFSETFROM:+0200
TZOFFSETTO:+0300
TZNAME:EEST
DTSTART:20260329T010000
END:DAYLIGHT
BEGIN:STANDARD
TZOFFSETFROM:+0300
TZOFFSETTO:+0200
TZNAME:EET
DTSTART:20261025T010000
END:STANDARD
END:VTIMEZONE
BEGIN:VEVENT
DTSTART;TZID=Europe/Helsinki:20250315T140000
DTEND;TZID=Europe/Helsinki:20250315T170000
DTSTAMP:20260425T172537
CREATED:20241126T140219Z
LAST-MODIFIED:20250205T091505Z
UID:10045313-1742047200-1742058000@etelansyli.fi
SUMMARY:Luovan kirjoittamisen työpaja
DESCRIPTION:Keväällä 2025 Etelän-SYLIn toimistolla Kaapelitehtaalla kokoontuu kolmesti Luovan kirjoittamisen työpaja\, jossa tehdään mukavia\, inspiroivia ja monipuolisia kirjoitusharjoituksia. Ryhmässä keskustellaan kaikesta kirjoittamiseen liittyvästä ja tutustutaan eri kirjallisuuden lajeihin. Ryhmä on matalan kynnyksen kirjoittajaryhmä ja siihen voivat osallistua kirjoitusharrastusta aloittavat\, sekä kokeneemmat kirjoittajat.  \nRyhmässä tuetaan kunkin osallistujan omaa kirjoittamista ja halukkaat saavat jakaa tekstejään saaden kannustavaa ja rakentavaa palautetta niistä ohjaajalta ja ryhmältä. Luovan kirjoittamisen työpaja on hyvä paikka työstää omia tunteita ja ajatuksia sekä nollata aivoja arjen keskellä.  \nRyhmä kokoontuu lauantaisin klo 14.00-17.00. Pidämme myös 15 minuutin tauon kokoontumisissa. Voit osallistua yhteen tai useampaan työpajaan samalla osallistumismaksulla.  Tapaamispäivät ovat:  \n8.2.2025  \n15.3.2025  \n3.5.2025  \nOhjaaja\nLuovan kirjoittamisen työpajaa ohjaa FM\, sanataideopettaja ja muusikko Aamu Pulkkinen. Hänellä on usean vuoden kokemus luovan kirjoittamisen työpajojen vetämisestä eri ikäisille ja kielisille ihmisille. Hän on vetänyt myös aikaisemmin luovan kirjoittamisen työpajaa Etelän-SYLI:llä ja jatkaa tauon jälkeen mielellään nyt työpajan vetämistä.    \nHinta: 5 € Etelän-SYLIn jäsenille ja 7 € ei-jäsenille\, yhdellä maksulla voit osallistua kaikkiin työpajoihin.  \nIlmoittautumiset: pihla.aaltonen(at)etelansyli.fi 
URL:https://etelansyli.fi/tapahtuma/luovan-kirjallisuuden-tyopaja/2025-03-15/
LOCATION:Toimisto\, Kaapelitehdas\, B-rappu\, 4.krs\, Tallberginkatu 1\, Helsinki\, 00180\, Suomi
CATEGORIES:Sairastavalle,Toipuvalle,Työpaja
ORGANIZER;CN="Etel%C3%A4n-SYLI ry":MAILTO:info@etelansyli.fi
END:VEVENT
END:VCALENDAR