BEGIN:VCALENDAR
VERSION:2.0
PRODID:-//Etelän-SYLI ry - ECPv6.15.20//NONSGML v1.0//EN
CALSCALE:GREGORIAN
METHOD:PUBLISH
X-ORIGINAL-URL:https://etelansyli.fi
X-WR-CALDESC:Tapahtumat Etelän-SYLI ry
REFRESH-INTERVAL;VALUE=DURATION:PT1H
X-Robots-Tag:noindex
X-PUBLISHED-TTL:PT1H
BEGIN:VTIMEZONE
TZID:Europe/Helsinki
BEGIN:DAYLIGHT
TZOFFSETFROM:+0200
TZOFFSETTO:+0300
TZNAME:EEST
DTSTART:20240331T010000
END:DAYLIGHT
BEGIN:STANDARD
TZOFFSETFROM:+0300
TZOFFSETTO:+0200
TZNAME:EET
DTSTART:20241027T010000
END:STANDARD
BEGIN:DAYLIGHT
TZOFFSETFROM:+0200
TZOFFSETTO:+0300
TZNAME:EEST
DTSTART:20250330T010000
END:DAYLIGHT
BEGIN:STANDARD
TZOFFSETFROM:+0300
TZOFFSETTO:+0200
TZNAME:EET
DTSTART:20251026T010000
END:STANDARD
BEGIN:DAYLIGHT
TZOFFSETFROM:+0200
TZOFFSETTO:+0300
TZNAME:EEST
DTSTART:20260329T010000
END:DAYLIGHT
BEGIN:STANDARD
TZOFFSETFROM:+0300
TZOFFSETTO:+0200
TZNAME:EET
DTSTART:20261025T010000
END:STANDARD
END:VTIMEZONE
BEGIN:VEVENT
DTSTART;TZID=Europe/Helsinki:20251115T110000
DTEND;TZID=Europe/Helsinki:20251115T160000
DTSTAMP:20260423T110248
CREATED:20250815T095046Z
LAST-MODIFIED:20251113T093634Z
UID:10045505-1763204400-1763222400@etelansyli.fi
SUMMARY:Työpaja: Kehonkuvaan uutta yhteyttä
DESCRIPTION:Kokemus omasta kehosta ja kehonkuvan sisällöt herättävät monissa hankalia tunteita. \n\nMitä reittejä on löydettävissä siihen\, että kehonkuvan sisällöistä löytyykin jotakin\, mikä kannattelee ja inspiroi? \n\nTutkitaan asiaa tanssi-liiketerapiaan pohjautuvilla toiminnallisilla ja keho-mieltä kuuntelevilla harjoitteilla sekä keskustelemalla. Harjoitteet ovat lempeitä eikä tätä työpajaa tarvitse suorittaa. Voit tulla sellaisena kuin olet ja osallistua tavalla\, joka sinusta tuntuu hyvältä. \n\nTyöpajassa on lounastauko klo 13–14\, ja pikkutaukoja pidetään myös tarpeen mukaan. Toimitiloissa on tarjolla vettä\, kahvia ja teetä. \n\nTyöpajan ohjaajana toimii psykologi ja tanssi-liiketerapeutti Päivi Pylvänäinen (kuvassa). Päivi on kiinnostunut siitä\, mikä on ihmisten kehollinen kokemus olostaan\, itsestään ja suhteestaan ympäristöön: \n\n\nElämässä on tärkeää se\, että voisi olla rauhassa omassa kehossaan ja olla yhteydessä kehonsa tuntemuksiin\, koska näistä lähtökohdista myös toimiminen toisten ihmisten ja ympäristön kanssa tulee sujuvammaksi ja myönteisemmäksi.\n\nTyöpajaan otetaan maksimissaan 10 ilmoittautunutta. Työpajan hinta on 5 € / 7 € (Etelän-SYLIn jäsen / ei jäsen). Vähävaraisille on mahdollista myöntää työpajaan vapaapaikka\, kerrothan tästä ilmoittautuessasi. \nTyöpaja on tarkoitettu sairastaville ja toipuville. \n\nIlmoittautumiset viimeistään 13.11. tällä lomakkeella. \n\nLisätietoa työpajasta voit kysyä: pihla.aaltonen(at)etelansyli.fi.\n\n\n\n 
URL:https://etelansyli.fi/tapahtuma/kehonkuvaan-uutta-yhteytta/
LOCATION:Toimisto\, Kaapelitehdas\, B-rappu\, 4.krs\, Tallberginkatu 1\, Helsinki\, 00180\, Suomi
CATEGORIES:Sairastavalle,Toipuvalle,Työpaja
ATTACH;FMTTYPE=image/jpeg:https://etelansyli.fi/a/wp-content/uploads/2025/08/20250815125820-scaled.jpg
ORGANIZER;CN="Etel%C3%A4n-SYLI ry":MAILTO:info@etelansyli.fi
END:VEVENT
END:VCALENDAR