BEGIN:VCALENDAR
VERSION:2.0
PRODID:-//Etelän-SYLI ry - ECPv6.15.20//NONSGML v1.0//EN
CALSCALE:GREGORIAN
METHOD:PUBLISH
X-WR-CALNAME:Etelän-SYLI ry
X-ORIGINAL-URL:https://etelansyli.fi
X-WR-CALDESC:Tapahtumat Etelän-SYLI ry
REFRESH-INTERVAL;VALUE=DURATION:PT1H
X-Robots-Tag:noindex
X-PUBLISHED-TTL:PT1H
BEGIN:VTIMEZONE
TZID:Europe/Helsinki
BEGIN:DAYLIGHT
TZOFFSETFROM:+0200
TZOFFSETTO:+0300
TZNAME:EEST
DTSTART:20230326T010000
END:DAYLIGHT
BEGIN:STANDARD
TZOFFSETFROM:+0300
TZOFFSETTO:+0200
TZNAME:EET
DTSTART:20231029T010000
END:STANDARD
BEGIN:DAYLIGHT
TZOFFSETFROM:+0200
TZOFFSETTO:+0300
TZNAME:EEST
DTSTART:20240331T010000
END:DAYLIGHT
BEGIN:STANDARD
TZOFFSETFROM:+0300
TZOFFSETTO:+0200
TZNAME:EET
DTSTART:20241027T010000
END:STANDARD
BEGIN:DAYLIGHT
TZOFFSETFROM:+0200
TZOFFSETTO:+0300
TZNAME:EEST
DTSTART:20250330T010000
END:DAYLIGHT
BEGIN:STANDARD
TZOFFSETFROM:+0300
TZOFFSETTO:+0200
TZNAME:EET
DTSTART:20251026T010000
END:STANDARD
END:VTIMEZONE
BEGIN:VEVENT
DTSTART;TZID=Europe/Helsinki:20240529T173000
DTEND;TZID=Europe/Helsinki:20240529T191500
DTSTAMP:20260421T170800
CREATED:20240426T144714Z
LAST-MODIFIED:20240516T094130Z
UID:10044966-1717003800-1717010100@etelansyli.fi
SUMMARY:Webinaari: Syömishäiriöt urheilussa ja valmennuksessa
DESCRIPTION:Osallistu tästä! \nTervetuloa mukaan webinaariin\, jos haluat ymmärtää enemmän liikunnan ja urheilun välisistä yhteyksistä syömishäiriöihin! \nSyömishäiriöoireilun tunnistaminen urheilijalla tai paljon liikkuvilla ei ole helppoa\, ja se usein tapahtuu kovin myöhään. \nVarhainen tunnistaminen ja oireiluun puuttuminen voi estää syömishäiriön etenemisen vakavammaksi\, jolloin ennaltaehkäistään paljon inhimillistä kärsimystä. Siksi on tärkeää\, että valmentajat\, ohjaajat ja yleensä urheilijoiden ja paljon liikkuvien parissa päivittäin toimivat tunnistavat pienetkin häiriintyneen syömisen merkit ja osaavat asiallisesti tilanteeseen puuttua. \nHäiriintynyt syöminen on niin yleistä urheilussa\, että osaaminen asian suhteen on olennainen osa erityisesti valmentajien ammattitaitoa. \nLuennoitsijana on Oman Elämänsä Urheilija -projektin koordinaattori\, terveystieteiden yo\, koripallo- ja fysiikkavalmentaja Jouni Kuivalainen Syömishäiriökeskuksesta. \nWebinaarin alussa kuullaan Kian kokemuspuheenvuoro. Hän esittelee itsensä näin: \nHei! Minä olen Kia ja sairastin syömishäiriötä koko nuoruuteni ajan. Telinevoimistelu tuli elämääni ennen sairastumistani ja olinkin lajissa mukana yli kymmenen vuotta.  \nVoimistelu oli syömishäiriössäni kaksiteräinen miekka\, sillä se toi samalla hurjasti iloa ja toivoa mutta samalla ylläpiti sairauttani. Rakastin voimistelua niin paljon\, että olin valmis tekemään mitä vain pitääkseni sen osana elämääni.  \nKuitenkin\, loukkaantumisen ja toipumisen myötä\, opettelin terveen liikuntasuhteen ja ymmärsin\, että liikunnan ei kuulu olla pelkkää suorittamista ja pakkopullaa. \nOsallistujien kamerat ja mikrofonit ovat kiinni. Kysymyksiä ja kommentteja voi esittää chatissä.
URL:https://etelansyli.fi/tapahtuma/webinaari-syomishairiot-urheilussa-ja-valmennuksessa/
LOCATION:Zoom
CATEGORIES:Ammattilaiselle,Luento,Sairastavalle,Webinaari
ATTACH;FMTTYPE=image/png:https://etelansyli.fi/a/wp-content/uploads/2024/04/webinaari-1.png
ORGANIZER;CN="Etel%C3%A4n-SYLI ry":MAILTO:info@etelansyli.fi
END:VEVENT
END:VCALENDAR