BEGIN:VCALENDAR
VERSION:2.0
PRODID:-//Etelän-SYLI ry - ECPv6.15.20//NONSGML v1.0//EN
CALSCALE:GREGORIAN
METHOD:PUBLISH
X-WR-CALNAME:Etelän-SYLI ry
X-ORIGINAL-URL:https://etelansyli.fi
X-WR-CALDESC:Tapahtumat Etelän-SYLI ry
REFRESH-INTERVAL;VALUE=DURATION:PT1H
X-Robots-Tag:noindex
X-PUBLISHED-TTL:PT1H
BEGIN:VTIMEZONE
TZID:Europe/Helsinki
BEGIN:DAYLIGHT
TZOFFSETFROM:+0200
TZOFFSETTO:+0300
TZNAME:EEST
DTSTART:20230326T010000
END:DAYLIGHT
BEGIN:STANDARD
TZOFFSETFROM:+0300
TZOFFSETTO:+0200
TZNAME:EET
DTSTART:20231029T010000
END:STANDARD
BEGIN:DAYLIGHT
TZOFFSETFROM:+0200
TZOFFSETTO:+0300
TZNAME:EEST
DTSTART:20240331T010000
END:DAYLIGHT
BEGIN:STANDARD
TZOFFSETFROM:+0300
TZOFFSETTO:+0200
TZNAME:EET
DTSTART:20241027T010000
END:STANDARD
BEGIN:DAYLIGHT
TZOFFSETFROM:+0200
TZOFFSETTO:+0300
TZNAME:EEST
DTSTART:20250330T010000
END:DAYLIGHT
BEGIN:STANDARD
TZOFFSETFROM:+0300
TZOFFSETTO:+0200
TZNAME:EET
DTSTART:20251026T010000
END:STANDARD
END:VTIMEZONE
BEGIN:VEVENT
DTSTART;TZID=Europe/Helsinki:20241127T173000
DTEND;TZID=Europe/Helsinki:20241127T191500
DTSTAMP:20260424T032924
CREATED:20241105T055704Z
LAST-MODIFIED:20241111T103751Z
UID:10045299-1732728600-1732734900@etelansyli.fi
SUMMARY:Webinaari: Vanhemmuus ja syömishäiriö
DESCRIPTION:Jälkeläisen syömishäiriö haastaa vanhemmuutta. Sairastunut voi herättää tunteita\, joista on vaikea puhua muille. Käsitys itsestä kasvattajana voi romahtaa. \nAika kuluu sairastuneesta huolehtimiseen\, ja sisarukset tuntuvat jäävän oman onnensa nojaan. Ei ole harvinaista\, että vanhempien on vaikea pysyä samoilla linjoilla syömishäiriöön suhtautumisen ja toiminnan suhteen. \n\nOsallistu tästä! \n\nNäistä ja muista haasteista tulee puhumaan Reita Nyberg\, jonka kolmesta lapsesta keskimmäinen sairastui teini-ikäisenä syömishäiriöön. \nSelviytyäkseen tilanteesta hän opetteli Iso-Britanniassa kehitetyn Maudsleyn menetelmän mukaisia toimintamalleja. Reita käsitteleekin aihetta sekä omien kokemustensa että tutkimuksissa ja käytännössä tehokkaaksi havaitun hoitomenetelmän kautta. \n\nKenelle?Webinaari on avon ja maksuton kaikille\, jotka haluavat lisätietoa syömishäiriön vaikutuksista vanhemmuuteen\, sisaruksiin ja perhe-elämään\, sekä vinkkejä tilanteesta selviytymiseen. \n\nLuennoitsijaReita toimii Sisä-Suomen SYLI ry:ssä syömishäiriöläheisten vertaistukiryhmän ohjaajana ja on tuottanut materiaalia läheisten taitovalmennukseen. Hän myös kouluttaa terveydenhuollon ammattilaisia läheisten tukemiseen ja syömishäiriöiden perhepohjaiseen hoitoon. \nKoulutukseltaan Reita on lääkäri\, ja hän toimii tällä hetkellä Pirkanmaan hyvinvointialueella erikoissairaanhoidon koulutusylilääkärinä. \nKokemuspuheenvuoroWebinaarissa kuullaan myös kokemuspuheenvuoro. Sen pitää äiti\, joka on sairastanut itse syömishäiriötä samaan aikaan oman tyttärensä kanssa: \n\nKokemuspuheenvuoroni kertoo niin omasta kuin lapseni syömishäiriöstä\, sekä molempien toipumismatkasta ja siihen vaikuttaneista tekijöistä.\n  \nTule kuulemaan\, millaista on tukea lasta toipumaan samalla\, kun itse yrittää toipua. Miten tilanne vaikutti perhe-elämäämme ja mitkä tekijät auttoivat meitä kohti hyvinvointia?
URL:https://etelansyli.fi/tapahtuma/webinaari-vanhemmuus-ja-syomishairio/
LOCATION:Zoom
CATEGORIES:Ammattilaiselle,Läheiselle,Sairastavalle,Webinaari
ATTACH;FMTTYPE=image/png:https://etelansyli.fi/a/wp-content/uploads/2024/11/webinaari-2.png
ORGANIZER;CN="Etel%C3%A4n-SYLI ry":MAILTO:info@etelansyli.fi
END:VEVENT
END:VCALENDAR