BEGIN:VCALENDAR
VERSION:2.0
PRODID:-//Etelän-SYLI ry - ECPv6.15.20//NONSGML v1.0//EN
CALSCALE:GREGORIAN
METHOD:PUBLISH
X-ORIGINAL-URL:https://etelansyli.fi
X-WR-CALDESC:Tapahtumat Etelän-SYLI ry
REFRESH-INTERVAL;VALUE=DURATION:PT1H
X-Robots-Tag:noindex
X-PUBLISHED-TTL:PT1H
BEGIN:VTIMEZONE
TZID:Europe/Helsinki
BEGIN:DAYLIGHT
TZOFFSETFROM:+0200
TZOFFSETTO:+0300
TZNAME:EEST
DTSTART:20240331T010000
END:DAYLIGHT
BEGIN:STANDARD
TZOFFSETFROM:+0300
TZOFFSETTO:+0200
TZNAME:EET
DTSTART:20241027T010000
END:STANDARD
BEGIN:DAYLIGHT
TZOFFSETFROM:+0200
TZOFFSETTO:+0300
TZNAME:EEST
DTSTART:20250330T010000
END:DAYLIGHT
BEGIN:STANDARD
TZOFFSETFROM:+0300
TZOFFSETTO:+0200
TZNAME:EET
DTSTART:20251026T010000
END:STANDARD
BEGIN:DAYLIGHT
TZOFFSETFROM:+0200
TZOFFSETTO:+0300
TZNAME:EEST
DTSTART:20260329T010000
END:DAYLIGHT
BEGIN:STANDARD
TZOFFSETFROM:+0300
TZOFFSETTO:+0200
TZNAME:EET
DTSTART:20261025T010000
END:STANDARD
END:VTIMEZONE
BEGIN:VEVENT
DTSTART;TZID=Europe/Helsinki:20251106T140000
DTEND;TZID=Europe/Helsinki:20251106T150000
DTSTAMP:20260423T113557
CREATED:20250701T090243Z
LAST-MODIFIED:20251015T081321Z
UID:10045732-1762437600-1762441200@etelansyli.fi
SUMMARY:Teemallinen Zoom-kahvihetki
DESCRIPTION:Tervetuloa teemallisille Zoom-kahveille torstaina klo 14–15!  \nKeväällä 2025 alkaneet teemalliset Zoom-kahvihetket jatkuvat taas: to 4.9\, to 2.10 ja to 6.11. Kahvihetkeä ohjaava työntekijä virittää lyhyesti päivän teemaan ja jokainen voi jakaa ajatuksiaan ja kokemuksiaan aiheesta vertaistuellisessa ilmapiirissä. \nTeemat: \n4.9 Somepaineet\, laihdutuskulttuuri\, kehoon ja ruokaan liittyvät trendit…mitä trendejä tunnistamme? Mitkä niistä ovat haitallisia? Miten ne minuun vaikuttavat ja miten suojaan itseäni somessa ja arjessa?  \n2.10 Syömishäiriö ja stigma: Mielenterveyden häiriöihin liittyy stigmaa\, mutta miksi? Leimaako syömishäiriö ja mitä siitä seuraa? Miten stigmaa voi opetella purkamaan? \n6.11 Syömishäiriöiden monimuotoisuus: Mitä syömishäiriöistä tiedetään tai kuvitellaan tiedettävän? Onko se ‘naisten sairaus’\, ‘nuoren teinikapinaa’\, vai jotain muuta? Miten siitä puhutaan mediassa?  Miten syömishäiriömyytit ja stereotypiat vaikuttavat tunnistamiseen ja toipumiseen? \nVertaistukiryhmistä poiketen voit Zoom-kahvihetkeen tulla joko koko ajaksi tai piipahtamaan oman aikataulusi mukaan. \nZoom-kahvihetkissä on käytössä ryhmätilan huoneentaulu\, jonka tarkoitus on taata kaikille turvallinen ja toipumista tukeva keskusteluilmapiiri. Emme kysele diagnooseja\, vaan ihan jokaisella on omassa tilanteessaan oikeus ja mahdollisuus tulla mukaan ja saada tukea. \nMuistathan etäyhteyden päässä kiinnittää erityistä huomiota siihen\, että ulkopuoliset eivät pääse kuulemaan tai näkemään keskusteluja. Ryhmään osallistutaan kamera päällä. Rauhoituthan hetkeen ja teet olosi mukavaksi. \nOsallistu Zoom-kahvihetkeen tästä!  \nNähdään Zoomissa!
URL:https://etelansyli.fi/tapahtuma/teemallinen-zoom-kahvihetki-2/2025-11-06/
LOCATION:Zoom
CATEGORIES:Läheiselle,Sairastavalle,Toipuvalle,Työntekijävetoinen tukitoiminta,Zoom-kahvihetki
ORGANIZER;CN="Etel%C3%A4n-SYLI ry":MAILTO:info@etelansyli.fi
END:VEVENT
END:VCALENDAR